BEGIN:VCALENDAR
VERSION:2.0
PRODID:-//ChamberMaster//Event Calendar 2.0//EN
METHOD:PUBLISH
X-PUBLISHED-TTL:P3D
REFRESH-INTERVAL:P3D
CALSCALE:GREGORIAN
BEGIN:VEVENT
DTSTART:20060523T220000Z
DTEND:20060523T160000Z
X-MICROSOFT-CDO-ALLDAYEVENT:FALSE
SUMMARY:"Writing & Designing Newsletters that Keep You Connected"
DESCRIPTION:Newsletters - The Art of Designing\, Printing\, and Mailing  A newsletter can be a very effective marketing tool for your business.  If written and designed properly\, a newsletter can bring a personal touch to your marketing\, and it has a much better chance of being read than other direct mail pieces.  This seminar will focus on various design ideas\, reproduction methods\, and distribution options.  It will cover small\, short run newsletters as well as multi-page\, large quantity projects.  Our speakers will discuss:    Types of articles and information    Basic news writing and feature writing tips    Use of photography and graphics    Setting and keeping deadlines    Printing and copying methods    Reducing mailing costs  Presented by:   Carol Smith       Prestige Publications - Vineland\, NJ        Holly Sanborn       Sir Speedy Printing - Cherry Hill\, NJ
X-ALT-DESC;FMTTYPE=text/html:Newsletters - The Art of Designing\, Printing\, and Mailing  A newsletter can be a very effective marketing tool for your business.  If written and designed properly\, a newsletter can bring a personal touch to your marketing\, and it has a much better chance of being read than other direct mail pieces.  This seminar will focus on various design ideas\, reproduction methods\, and distribution options.  It will cover small\, short run newsletters as well as multi-page\, large quantity projects.  Our speakers will discuss:    Types of articles and information    Basic news writing and feature writing tips    Use of photography and graphics    Setting and keeping deadlines    Printing and copying methods    Reducing mailing costs  Presented by:   Carol Smith       Prestige Publications - Vineland\, NJ        Holly Sanborn       Sir Speedy Printing - Cherry Hill\, NJ 
LOCATION:Builders League 114 Haddontowne Ct Cherry Hill\, NJ 08034
UID:e.9292.102
SEQUENCE:3
DTSTAMP:20260421T165420Z
URL:https://members.blsj.com/events/details/writing-designing-newsletters-that-keep-you-connected-05-23-2006-102
END:VEVENT

END:VCALENDAR
