BEGIN:VCALENDAR
VERSION:2.0
PRODID:-//ChamberMaster//Event Calendar 2.0//EN
METHOD:PUBLISH
X-PUBLISHED-TTL:P3D
REFRESH-INTERVAL:P3D
CALSCALE:GREGORIAN
BEGIN:VEVENT
DTSTART:20090625T220000Z
DTEND:20090625T160000Z
X-MICROSOFT-CDO-ALLDAYEVENT:FALSE
SUMMARY:WORKSHOP: Wood Frame Construction for High Wind Regions - 06/25/2009
DESCRIPTION:Wood Frame Construction for High Wind Regions  LIMITED SEATING-PLEASE REGISTER EARLY TO SECURE A SPACE  Workshop Overview The program provides an overview of how wind loads affect a building and how proper design and construction prevents damage to the building. We will cover the use of code referenced design manuals as well as locally approved design documents. The audience will gain an understanding of building code requirements\, structural design and framing methods to reduce costs for building in high wind regions including using wall sheathing for combined shear and uplift. The program will include\, selection and specifying wood frame products\, fastening with nails\, screws and glue and complying with the ever changing building codes.   Norbord will also present their new Pinnacle Premium Sub-Flooring product that offers builders the choice of FSC OR SFI Chain of Custody Certified Wood   Handouts Hard copy or electronic versions of the program will be available. We will also hand out design documents that the attendees will keep as a reference.    This class is certified by the AIA and qualifies for 2 hours of CEU (Continuing Education Units).    Instructor Biographical Information David E. Lewis received his BS In Civil Engineering from the University of Central Fla. Mr. Lewis started his career as a forensic engineer where he analyzed the failure of buildings and building components. In 1994 Mr. Lewis joined APA The Engineered Wood where he served as a senior engineered wood specialist until joining Norbord Industries in 2007. At APA he developed and implemented training courses for the construction industry. The courses included high wind design for wood frame\, moisture control in homes and green building with wood. He has served on several building code committees and remains active in the code development process. During his career Mr. Lewis has served on damage assessment teams assigned to review and analyze structural damage caused by high wind and seismic events beginning with hurricane Andrew in 1992. He has authored articles on topics ranging from wood frame structural design to controlling mold and mildew in homes. Currently he provides continuing education courses in states where high wind is a primary design issue including Florida\, Louisiana\, Mississippi\, Connecticut and Massachusetts.
X-ALT-DESC;FMTTYPE=text/html:<p style="text-align: center"><span style="font-size: medium"><b>Wood Frame Construction for&nbsp\;High Wind Regions</b></span></p> <p style="text-align: center">&nbsp\;LIMITED SEATING-PLEASE REGISTER EARLY TO SECURE A SPACE</p> <p>&nbsp\;<b>Workshop Overview</b></p> <div>The program provides an overview of how wind loads affect a building and how proper design and construction prevents damage to the building.&nbsp\;We will cover the use of code referenced design manuals as well as locally approved design documents.&nbsp\;The audience will gain an understanding of building code requirements\, structural design and framing methods to reduce costs for building in high wind regions including using wall sheathing for combined shear and uplift.&nbsp\;The program will include\, selection and specifying wood frame products\, fastening with nails\, screws and glue and complying with the ever changing building codes.</div> <div>&nbsp\;</div> <div><span style="color: #ff0000">Norbord will also present their new Pinnacle Premium Sub-Flooring product that offers builders the choice of FSC OR SFI Chain of Custody Certified Wood</span></div> <div>&nbsp\;</div> <div><b>Handouts</b></div> <div>Hard copy or electronic versions of the program will be available.&nbsp\;We will also hand out design documents that the attendees will keep as a reference.</div> <div>&nbsp\;</div> <div><font size="2">&nbsp\;</font><b><span style="color: #ff0000"><font size="2">This class is certified by the AIA and qualifies for 2 hours of CEU (Continuing Education Units). </font></span></b><span style="color: #ff0000" /></div> <div>&nbsp\;</div> <div><b>Instructor Biographical Information</b></div> <div><b>David E. Lewis</b> received his BS In Civil Engineering from the University of Central Fla.&nbsp\;Mr. Lewis started his career as a forensic engineer where he analyzed the failure of buildings and building components.&nbsp\;In 1994 Mr. Lewis joined APA The Engineered Wood where he served as a senior engineered wood specialist until joining Norbord Industries in 2007.&nbsp\;At APA he developed and implemented training courses for the construction industry.&nbsp\;The courses included high wind design for wood frame\, moisture control in homes and green building with wood.&nbsp\;He has served on several building code committees and remains active in the code development process.&nbsp\;During his career Mr. Lewis has served on damage assessment teams assigned to review and analyze structural damage caused by high wind and seismic events beginning with hurricane Andrew in 1992.&nbsp\;He has authored articles on topics ranging from wood frame structural design to controlling mold and mildew in homes. Currently he provides continuing education courses in states where high wind is a primary design issue including Florida\, Louisiana\, Mississippi\, Connecticut and Massachusetts.</div>
LOCATION:114 Haddontowne Court Cherry Hill\, NJ 08034
UID:e.9292.1599
SEQUENCE:3
DTSTAMP:20260422T063610Z
URL:https://members.blsj.com/events/details/workshop-wood-frame-construction-for-high-wind-regions-06-25-2009-06-25-2009-1599
END:VEVENT

END:VCALENDAR
