BEGIN:VCALENDAR
VERSION:2.0
PRODID:-//ChamberMaster//Event Calendar 2.0//EN
METHOD:PUBLISH
X-PUBLISHED-TTL:P3D
REFRESH-INTERVAL:P3D
CALSCALE:GREGORIAN
BEGIN:VEVENT
DTSTART:20060928T220000Z
DTEND:20060928T220000Z
X-MICROSOFT-CDO-ALLDAYEVENT:FALSE
SUMMARY:Workshop "The Buyer Seller Dance & Who Really Leads" - 09/28/2006
DESCRIPTION:The Buyer/Seller Dance...Who Really Leads \n In today's difficult economy\, sales people are having an increasingly tough time sustaining their business. \n Your prospects and customers are commoditizing your products and services\, shopping you for the lowest price. \n This results in decreasing sales productivity\, lower margins\, lower morale\, and higher turnover. \n The bottom line: Your buyers/customers have control over your sales calls. \n Come and discover: How to separate yourself on something other than price \n How to get in front of more qualified leads \n How traditional sales practices turn you into unpaid consultants \n A non-manipulative way to take control of the sales call \n Why you are vulnerable to comparison shoppers and think-it-overs \n How to shorten your company's selling cycle \n How to avoid writing proposals that never get business \n How to get prospects to make decisions \n You'll leave with new sales tools that can immediately be used to grow your business. \n This information is 180 degrees from traditional sales training. \n \n Presented by Mark W.  Baum\, Shulman & Associates\, Sandler Sales Institute
X-ALT-DESC;FMTTYPE=text/html:<p align="center"><font style="FONT-SIZE: 14px"><strong><font color="#ff0000">The Buyer/Seller Dance...Who Really Leads</font></strong>&nbsp\;<br /> </font>In today&rsquo\;s difficult economy\, sales people are having an increasingly tough time sustaining their business.&nbsp\;<br /> Your prospects and customers are commoditizing your products and services\, shopping you for the lowest price.&nbsp\;<br /> This results in decreasing sales productivity\, lower margins\, lower morale\, and higher turnover.&nbsp\;<br /> The bottom line: Your buyers/customers have control over your sales calls.&nbsp\;<br /> Come and discover: How to separate yourself on something other than price&nbsp\;<br /> How to get in front of more qualified leads&nbsp\;<br /> How traditional sales practices turn you into unpaid consultants&nbsp\;<br /> A non-manipulative way to take control of the sales call&nbsp\;<br /> Why you are vulnerable to comparison shoppers and think-it-overs&nbsp\;<br /> How to shorten your company&rsquo\;s selling cycle&nbsp\;<br /> How to avoid writing proposals that never get business&nbsp\;<br /> How to get prospects to make decisions&nbsp\;<br /> You&rsquo\;ll leave with new sales tools that can immediately be used to grow your business.&nbsp\;<br /> This information is 180 degrees from traditional sales training.&nbsp\;<br /> <br /> Presented by Mark W. &nbsp\;Baum\, Shulman &amp\; Associates\, Sandler Sales Institute </p>
LOCATION:Builders League 114 Haddontowne Ct Cherry Hill\, NJ 08034
UID:e.9292.1375
SEQUENCE:3
DTSTAMP:20260421T223619Z
URL:https://members.blsj.com/events/details/workshop-the-buyer-seller-dance-who-really-leads-09-28-2006-09-28-2006-1375
END:VEVENT

END:VCALENDAR
