BEGIN:VCALENDAR
VERSION:2.0
PRODID:-//ChamberMaster//Event Calendar 2.0//EN
METHOD:PUBLISH
X-PUBLISHED-TTL:P3D
REFRESH-INTERVAL:P3D
CALSCALE:GREGORIAN
BEGIN:VEVENT
DTSTART:20090630T220000Z
DTEND:20090630T220000Z
X-MICROSOFT-CDO-ALLDAYEVENT:FALSE
SUMMARY:WOODCREST COUNTRY CLUB - SUMMER GOLF OUTING
DESCRIPTION:Jamaican Jam\n At the \n Woodcrest Country Club\n Registration NOON\n Box Lunch\n Scramble 12:30 p.m.\n Tuesday\, June 30\, 2009\n RAIN OR SHINE \n NO REFUNDS \n Limited to 120 Golfers Maximum Woodcrest Country Club\n 300 E. Evesham Road\n Cherry Hill\, NJ  Want to sponsor a hole or donate a prize? Here is your opportunity to reach your special audience of select businesses.  Select from any of the many Sponsorship Opportunities available Specially designed signs will be prominently displayed for each sponsorship. \n Call the League Office for more information\n    Registration & Box Lunch: NOON\n Tee-Off (Shotgun): 12:30 p.m.\n Open Bar\, Caribbean Dinner 5:30 - ????\n Dessert & awards presentation Attendees may register for the open bar\, dinner and evenings festivities for only $70 per person \n (see registration form). tournament format:\n 4 Person Scramble Double Bogie Max. Score\n cost: $250 per person  BLSJ policy requires payment prior to the event or at the door. \n All cancellations MUST BE given in writing at least 72 hours in advance or you will be billed.\n  Registration Includes:\n Round of Golf\n Boxed Lunch \n Variety of snacks & beverages on the course\n Golf Cart\n Unlimited use of the practice range\n Open bar\, frozen tropical drinks\, \n Bloody Mary's\, \n Dinner\, \n Dessert\, Coffee
X-ALT-DESC;FMTTYPE=text/html:<p style="text-align: center"><span style="font-family: Comic Sans MS"><span style="font-size: small">Jamaican Jam<br /> At the <br /> Woodcrest Country Club<br /> Registration NOON<br /> Box Lunch<br /> Scramble 12:30 p.m.<br /> Tuesday\, June 30\, 2009<br /> RAIN OR SHINE <br /> NO REFUNDS <br /> Limited to 120 Golfers Maximum</span></span></p> <p style="text-align: center"><span style="font-family: Comic Sans MS"><span style="font-size: small">Woodcrest Country Club<br /> 300 E. Evesham Road<br /> Cherry Hill\, NJ </span></span></p> <p style="text-align: center"><span style="font-size: small"><span style="font-family: Comic Sans MS">Want to sponsor a hole or donate a prize?</span></span></p> <p style="text-align: center"><span style="font-size: small"><span style="font-family: Comic Sans MS">Here is your opportunity to reach your special audience of select businesses. </span></span></p> <p style="text-align: center"><span style="font-size: small"><span style="font-family: Comic Sans MS">Select from any of the many&nbsp\;Sponsorship Opportunities available</span></span></p> <p style="text-align: center"><span style="font-size: small"><span style="font-family: Comic Sans MS">Specially designed signs will be prominently displayed for each sponsorship. <br /> Call the League Office for more information<br /> </span></span></p> <p>&nbsp\;</p> <p style="text-align: center">Registration &amp\; Box Lunch: NOON<br /> Tee-Off (Shotgun): 12:30 p.m.<br /> Open Bar\, Caribbean Dinner 5:30 - ????<br /> Dessert &amp\; awards presentation</p> <p style="text-align: center">Attendees may register for the open bar\, dinner and evenings festivities for only $70 per person <br /> (see registration form).</p> <p style="text-align: center">tournament format:<br /> 4 Person Scramble&mdash\;Double Bogie Max. Score<br /> cost: $250 per person</p> <p style="text-align: center">&nbsp\;<strong><span style="color: rgb(255\,0\,0)">BLSJ policy requires payment prior to the event or at the door. <br /> All cancellations MUST BE given in writing at least 72 hours in advance or you will be billed.<br /> </span></strong></p> <p style="text-align: center">Registration Includes:<br /> Round of Golf<br /> Boxed Lunch <br /> Variety of snacks &amp\; beverages on the course<br /> Golf Cart<br /> Unlimited use of the practice range<br /> Open bar\, frozen tropical drinks\, <br /> Bloody Mary&rsquo\;s\, <br /> Dinner\, <br /> Dessert\, Coffee<br /> &nbsp\;</p>
LOCATION:Woodcrest Country Club 300 E. Evesham Road Cherry Hill\, NJ 08003
UID:e.9292.900
SEQUENCE:3
DTSTAMP:20260422T080245Z
URL:https://members.blsj.com/events/details/woodcrest-country-club-summer-golf-outing-06-30-2009-900
END:VEVENT

END:VCALENDAR
