BEGIN:VCALENDAR
VERSION:2.0
PRODID:-//ChamberMaster//Event Calendar 2.0//EN
METHOD:PUBLISH
X-PUBLISHED-TTL:P3D
REFRESH-INTERVAL:P3D
CALSCALE:GREGORIAN
BEGIN:VEVENT
DTSTART:20090521T160000Z
DTEND:20090521T160000Z
X-MICROSOFT-CDO-ALLDAYEVENT:FALSE
SUMMARY:"Wine" & Cheese Social
DESCRIPTION:What do you get when you combine networking and "whining" and socializing all in one?\n We don't know either\, but whatever it is\, it should be fun!\n   We're inviting you to a casual afternoon of networking with other League members.\n We don't know who'll be here\, but come over and check it out for yourself\, you may be pleasantly surprised!\n   ___ Yes\, I will attend\n Name: ______________________________________________________________\n Company: ___________________________________________________________
X-ALT-DESC;FMTTYPE=text/html:<p style="text-align: center">What do you get when you&nbsp\;combine networking and &quot\;whining&quot\;&nbsp\;and socializing all in one?<br /> We don&rsquo\;t know either\, but whatever it is\, it should be fun!<br /> &nbsp\;</p> <p style="text-align: center">We&rsquo\;re inviting you to a casual&nbsp\;afternoon of networking with other League members.<br /> We don&rsquo\;t know who&rsquo\;ll be&nbsp\;here\, but come over and check it&nbsp\;out for yourself\, you&nbsp\;may be pleasantly surprised!<br /> &nbsp\;</p> <p style="text-align: left">___ Yes\, I will attend<br /> Name: ______________________________________________________________<br /> Company: ___________________________________________________________&nbsp\;</p>
LOCATION:114 Haddontowne Court Cherry Hill\, NJ 08034
UID:e.9292.37
SEQUENCE:3
DTSTAMP:20260422T074902Z
URL:https://members.blsj.com/events/details/wine-cheese-social-05-21-2009-37
END:VEVENT

END:VCALENDAR
