BEGIN:VCALENDAR
VERSION:2.0
PRODID:-//ChamberMaster//Event Calendar 2.0//EN
METHOD:PUBLISH
X-PUBLISHED-TTL:P3D
REFRESH-INTERVAL:P3D
CALSCALE:GREGORIAN
BEGIN:VEVENT
DTSTART:20061102T230000Z
DTEND:20061102T230000Z
X-MICROSOFT-CDO-ALLDAYEVENT:FALSE
SUMMARY:What's New in the HVAC Industry & How it can Boost the Builders $
DESCRIPTION:What's New in the HVAC Industry & How it can Boost the Builders $ Profit\n \n 1. Introduction to two speed heating and cooling equipment\, including variable speed blower drives.\n 2. New Hybrid (duel fuel) systems (gas\, electric)\n 3. Zoning for comfort\n 4. Indoor Air Quality Solutions\n a) Humidifiers\n b) Dehumidifiers\n c) Air filtration\n d) Germicidal (Ultraviolet lights)\n e) Fresh air introduction to living space (ERV/HRV)\n 5. Radiant in-floor heat and the Munchkin boiler\n 6. Nate Certified Techs\n 7. 410A - The new refrigerant\n a) Customer Expectations\n b) When\n c) Cost\n 8. How the Builder can profit from all the aboove\n \n Speaker: David J. Cournoyer\, Quality Control Supervisor\, Atmostemp Heating & Cooling
X-ALT-DESC;FMTTYPE=text/html:<p align="left">&nbsp\;&nbsp\;&nbsp\;&nbsp\;&nbsp\;&nbsp\;&nbsp\;&nbsp\;&nbsp\;&nbsp\;&nbsp\;&nbsp\;&nbsp\;&nbsp\;&nbsp\;&nbsp\;&nbsp\;&nbsp\;&nbsp\;&nbsp\;&nbsp\;&nbsp\;&nbsp\;&nbsp\;&nbsp\;&nbsp\;&nbsp\;&nbsp\;&nbsp\;&nbsp\;&nbsp\;&nbsp\; What&rsquo\;s New in the HVAC Industry &amp\; How it can Boost the Builders $ Profit<br /> <br /> 1. Introduction to two speed heating and cooling equipment\, including variable speed blower drives.<br /> 2. New Hybrid (duel fuel) systems (gas\, electric)<br /> 3. Zoning for comfort<br /> 4. Indoor Air Quality Solutions<br /> a) Humidifiers<br /> b) Dehumidifiers<br /> c) Air filtration<br /> d) Germicidal (Ultraviolet lights)<br /> e) Fresh air introduction to living space (ERV/HRV)<br /> 5. Radiant in-floor heat and the Munchkin boiler<br /> 6. Nate Certified Techs<br /> 7. 410A - The new refrigerant<br /> a) Customer Expectations<br /> b) When<br /> c) Cost<br /> 8. How the Builder can profit from all the aboove<br /> <br /> Speaker: David J. Cournoyer\, Quality Control Supervisor\, Atmostemp Heating &amp\; Cooling</p>
LOCATION:Builders League Cherry Hill\, NJ 08034
UID:e.9292.1351
SEQUENCE:3
DTSTAMP:20260422T023651Z
URL:https://members.blsj.com/events/details/what-s-new-in-the-hvac-industry-how-it-can-boost-the-builders-11-02-2006-1351
END:VEVENT

END:VCALENDAR
