BEGIN:VCALENDAR
VERSION:2.0
PRODID:-//ChamberMaster//Event Calendar 2.0//EN
METHOD:PUBLISH
X-PUBLISHED-TTL:P3D
REFRESH-INTERVAL:P3D
CALSCALE:GREGORIAN
BEGIN:VEVENT
DTSTART:20100804T160000Z
DTEND:20100804T160000Z
X-MICROSOFT-CDO-ALLDAYEVENT:FALSE
SUMMARY:WEBINAR: Ã¢Â€ÂœA Builder Guide to Appraisals: Obtaining Accurate Valuations on New Homes"
DESCRIPTION:NAHB Webinar Offers Insights and Advice for Tackling Appraisal Concerns Major changes have occurred in appraisal standards and practices in the wake of housing and financial market turmoil that present major challenges to home builders in financing and selling their homes. On Wednesday\, Aug. 4\, 2:00-3:00 p.m. EDT\, the NAHB Business Management & Information Technology and Housing Finance committees will host a FREE WEBINAR\n  "A Builder Guide to Appraisals: Obtaining Accurate Valuations on New Homes\," which will feature home builders and appraisal practitioners discussing the new appraisal rules and providing advice on what builders can do to improve the accuracy of home valuations. The program will cover:   Recent changes in appraisal standards and practices\n   Requirements for appraisals of new homes\n   Communications with lenders and appraisers\n   Key information to provide on subject properties\n   Tips for dealing with appraisals in distressed markets\n   Process for addressing appraisal errors and pursuing reconsideration \n of values Panelists will include Marty Mitchell\, of Mitchell & Best Homebuilders\, Rockville\, Md.\; and Allen Gardiner\, Jackson Claborn\, Inc.\, Plano\, Texas. \n NAHB Immediate Past President Joe Robson\, of the Robson Companies\, Broken Arrow\, Okla.\, will serve as the moderator. The webinar is sponsored by Builder Partnerships\, which focuses on increasing communication and collaboration within the home building industry. \n   This webinar can be viewed from any location by registering at::   https://www2.gotomeeting.com/register/187469667  \n For registration assistance\, e-mail Monica Wheaton at monica@theshinngroup.com.
X-ALT-DESC;FMTTYPE=text/html:<p>NAHB Webinar Offers Insights and Advice for Tackling Appraisal Concerns</p> <p>Major changes have occurred in appraisal standards and practices in the wake of housing and financial market turmoil that present major challenges to home builders in financing and selling their homes.</p> <p>On Wednesday\, Aug. 4\, 2:00-3:00 p.m. EDT\, the NAHB Business Management &amp\; Information Technology and Housing Finance committees will host a FREE WEBINAR<br /> &nbsp\;&ldquo\;A Builder Guide to Appraisals: Obtaining Accurate Valuations on New Homes\,&rdquo\; which will feature home builders and appraisal practitioners discussing the new appraisal rules and providing advice on what builders can do to improve the accuracy of home valuations.</p> <p>The program will cover:</p> <p>&bull\; Recent changes in appraisal standards and practices<br /> &bull\; Requirements for appraisals of new homes<br /> &bull\; Communications with lenders and appraisers<br /> &bull\; Key information to provide on subject properties<br /> &bull\; Tips for dealing with appraisals in distressed markets<br /> &bull\; Process for addressing appraisal errors and pursuing reconsideration <br /> of values</p> <p>Panelists will include Marty Mitchell\, of Mitchell &amp\; Best Homebuilders\, Rockville\, Md.\; and Allen Gardiner\, Jackson Claborn\, Inc.\, Plano\, Texas. <br /> NAHB Immediate Past President Joe Robson\, of the Robson Companies\, Broken Arrow\, Okla.\, will serve as the moderator.</p> <p>The webinar is sponsored by Builder Partnerships\, which focuses on increasing communication and collaboration within the home building industry. <br /> &nbsp\;</p> <p>This webinar can be viewed from any location by registering at::&nbsp\; &nbsp\;<a href="https://www2.gotomeeting.com/register/187469667">https://www2.gotomeeting.com/register/187469667</a>&nbsp\; <br /> For registration assistance\, e-mail Monica Wheaton at monica@theshinngroup.com.</p> <p>&nbsp\;</p>
LOCATION:\,
UID:e.9292.1322
SEQUENCE:3
DTSTAMP:20260421T104101Z
URL:https://members.blsj.com/events/details/webinar-&#227;-&#226;-&#226;œa-builder-guide-to-appraisals-obtaining-accurate-valuations-on-new-homes-08-04-2010-1322
END:VEVENT

END:VCALENDAR
