BEGIN:VCALENDAR
VERSION:2.0
PRODID:-//ChamberMaster//Event Calendar 2.0//EN
METHOD:PUBLISH
X-PUBLISHED-TTL:P3D
REFRESH-INTERVAL:P3D
CALSCALE:GREGORIAN
BEGIN:VEVENT
DTSTART:20100520T160000Z
DTEND:20100520T160000Z
X-MICROSOFT-CDO-ALLDAYEVENT:FALSE
SUMMARY:WEBINAR: THE LEAD PAINT REGULATION IS HERE Ã¢Â€Â“ NOW WHAT?
DESCRIPTION:WEBINAR: THE LEAD PAINT REGULATION IS HERE   NOW WHAT? Thursday\, May 20 2:00   3:00 p.m. EDT NAHB Member Fee: FREE Non-NAHB Member Fee: $35.00 The world changed for remodelers on April 22\, 2010\, the day that the Lead: Renovation\, Repair and Painting regulation took effect. Remodelers now have to change the way they work in pre-1978 homes and child-occupied facilities. Whether you have been trained and certified in lead-safe work practices or not\, don't miss this valuable new webinar. The NAHB Remodelers is proud to sponsor this event for providing updates about the regulation. Learn how the removal of the Homeowner Opt Out provision may affect your business\, what you need to do if you are not yet certified\, how to market yourself as lead certified\, and answers to the many questions remodelers continue to ask about how to work with the regulation. Moderator:   \n Matt Watkins\, NAHB Environmental Policy Analyst Speakers:  \n Brindley Byrd\, CGR\, CAPS\, of QX2 Contracting\, Lansing\, MI   \n Bob Hanbury\, CGR\, of House of Hanbury\, Newington\, CT  \n Michelle Price\, U.S. Environmental Protection Agency Learning Outcomes:  \n Summarize rule requirements \n Review changes to the regulation\, such as removal of the opt out provision \n Provide information on compliance and training \n Discuss lead-certified marketing and adapting business to the new regulation
X-ALT-DESC;FMTTYPE=text/html:<p><strong><span style="color: #ff0000">WEBINAR: THE LEAD PAINT REGULATION IS HERE &ndash\; NOW WHAT?</span></strong></p> <p>Thursday\, May 20</p> <p>2:00 &ndash\; 3:00 p.m. EDT</p> <p>NAHB Member Fee: FREE</p> <p>Non-NAHB Member Fee: $35.00</p> <p>The world changed for remodelers on April 22\, 2010\, the day that the Lead: Renovation\, Repair and Painting regulation took effect. Remodelers now have to change the way they work in pre-1978 homes and child-occupied facilities. Whether you have been trained and certified in lead-safe work practices or not\, don&rsquo\;t miss this valuable new webinar. The NAHB Remodelers is proud to sponsor this event for providing updates about the regulation. Learn how the removal of the Homeowner Opt Out provision may affect your business\, what you need to do if you are not yet certified\, how to market yourself as lead certified\, and answers to the many questions remodelers continue to ask about how to work with the regulation.</p> <p>Moderator:&nbsp\;&nbsp\;&nbsp\;<br /> Matt Watkins\, NAHB Environmental Policy Analyst</p> <p>Speakers:&nbsp\;&nbsp\;<br /> Brindley Byrd\, CGR\, CAPS\, of QX2 Contracting\, Lansing\, MI&nbsp\;&nbsp\;&nbsp\;<br /> Bob Hanbury\, CGR\, of House of Hanbury\, Newington\, CT&nbsp\;&nbsp\;<br /> Michelle Price\, U.S. Environmental Protection Agency</p> <p>Learning Outcomes:&nbsp\;&nbsp\;<br /> Summarize rule requirements <br /> Review changes to the regulation\, such as removal of the opt out provision <br /> Provide information on compliance and training <br /> Discuss lead-certified marketing and adapting business to the new regulation <br /> &nbsp\;</p>
LOCATION:114 Haddontowne Court Cherry Hill\, NJ 08034
UID:e.9292.897
SEQUENCE:3
DTSTAMP:20260421T164227Z
URL:https://members.blsj.com/events/details/webinar-the-lead-paint-regulation-is-here-&#227;-&#226;-&#226;-now-what-05-20-2010-897
END:VEVENT

END:VCALENDAR
