BEGIN:VCALENDAR
VERSION:2.0
PRODID:-//ChamberMaster//Event Calendar 2.0//EN
METHOD:PUBLISH
X-PUBLISHED-TTL:P3D
REFRESH-INTERVAL:P3D
CALSCALE:GREGORIAN
BEGIN:VEVENT
DTSTART:20100615T160000Z
DTEND:20100615T160000Z
X-MICROSOFT-CDO-ALLDAYEVENT:FALSE
SUMMARY:WEBINAR: REAL STRATEGIES FOR BUILDING GREEN IN A REBOUNDING MARKET
DESCRIPTION:WEBINAR:  Real Strategies for Building Green in a Rebounding Market \n   Tuesday\, June 15\, 2010   2:00-3:00 pm EDT   Prospective homebuyers are increasingly interested in purchasing high-performance\, energy-efficient homes\, and savvy builders are meeting these new market demands. As the National Green Building Standard\, becomes more widely adopted\, it is critical that you understand the fundamentals of green building\, so you too can participate in this growing segment of the market.   Learning Outcomes:  * Gain insight on techniques and strategies to help you flourish in the growing residential green construction market\n * Understand the fundamentals of the National Green Building Standard and how your projects can earn the maximum points under the Standard\n * Get an builder's perspective on how easily green building techniques can enhance the profitability of your busines   Speaker: Matt Belcher\, Belcher Homes\, St. Louis\, MO
X-ALT-DESC;FMTTYPE=text/html:<p><span style="color: #000000"><span style="font-size: small"> <p style="text-align: center"><span style="color: #ff0000"><span style="font-size: small">WEBINAR:&nbsp\; Real Strategies for Building Green in a Rebounding Market </span></span><span style="font-size: small"><br /> </span></p> <p style="text-align: center"> <p style="text-align: center"><span style="font-size: small">Tuesday\, June 15\, 2010</span></p> </p> </span></span><span style="color: #ff0000"><span style="font-size: small"> <p style="text-align: center"><span style="color: #000000"><span style="font-size: x-small">2:00-3:00 pm EDT</span></span></p> <p>&nbsp\;</p> <p><span style="color: #000000"><span style="font-size: x-small">Prospective homebuyers are increasingly interested in purchasing high-performance\, energy-efficient homes\, and savvy builders are meeting these new market demands. As the National Green Building Standard\, becomes more widely adopted\, it is critical that you understand the fundamentals of green building\, so you too can participate in this growing segment of the market.</span></span></p> <p>&nbsp\;</p> <p><span style="color: #000000"><span style="font-size: x-small">Learning Outcomes: </span></span></p> <p><span style="color: #000000"><span style="font-size: x-small">* Gain insight on techniques and strategies to help you flourish in the growing residential green construction market<br /> * Understand the fundamentals of the National Green Building Standard and how your projects can earn the maximum points under the Standard<br /> * Get an builder&rsquo\;s perspective on how easily green building techniques can enhance the profitability of your busines</span></span></p> <p>&nbsp\;</p> <p><span style="color: #000000"><span style="font-size: x-small">Speaker: Matt Belcher\, Belcher Homes\, St. Louis\, MO</span></span></p> </span></span></p>
LOCATION:114 Haddontowne Court Cherry Hill\, NJ 08034
UID:e.9292.1593
SEQUENCE:3
DTSTAMP:20260421T132901Z
URL:https://members.blsj.com/events/details/webinar-real-strategies-for-building-green-in-a-rebounding-market-06-15-2010-1593
END:VEVENT

END:VCALENDAR
