BEGIN:VCALENDAR
VERSION:2.0
PRODID:-//ChamberMaster//Event Calendar 2.0//EN
METHOD:PUBLISH
X-PUBLISHED-TTL:P3D
REFRESH-INTERVAL:P3D
CALSCALE:GREGORIAN
BEGIN:VEVENT
DTSTART:20100331T160000Z
DTEND:20100331T160000Z
X-MICROSOFT-CDO-ALLDAYEVENT:FALSE
SUMMARY:WEBINAR: NO FINANCING = NO SALE: FINANCING SECRETS OF TOP SALESPEOPLE
DESCRIPTION:The New Dynamics of Selling More Homes: Sponsored by the Sales & Marketing Council of the Builders League of South Jersey\n  No Financing = No Sale: Financing Secrets of Top Salespeople\n \n It happens to virtually every salesperson on the planet:  You work hard listening and\n understanding your buyer's needs\; you present exactly the right home to meet those\n needs\; you develop rapport\, trust and excitement with your buyers\; you get them to the\n closing table... Only to lose the sale because they can't get qualified with the lender.\n \n Don't let that happen again!\n \n Buyers will not buy on their first visit unless and until they know if they can qualify for a mortgage loan\, how they\n are going to pay for the home and what type of loan they can get.  \n \n Are you or your sales people dependent upon an outside lender to qualify your buyers?  \n \n Are you referring your buyers to someone who gets paid to originate a loan whether the customer buys from\n your company or some other builder?  \n \n Are your prospects buying elsewhere because your competition knows financing and can close for the sale on\n the buyers' first visit?  \n \n Top Sales Professionals - those who continue to sell no matter the market - know how to Talk Money and \n Close the Sale!  They realize the importance and power of understanding financing and how to use it as a tool\n to build trust\, rapport\, and value... And get more buyers closed!     Register Now! Live Webinar\n \n    Plan now to attend this special presentation.  Enroll your entire sales team today!\n Turn customer financing into one of your strengths!   Register and attend this special seminar with \n financing  expert Christine Hamilton\, and start making financing one of your  strengths!\n          Normal 0   false false false        MicrosoftInternetExplorer4       st1\\:*{behavior:url(#ieooui) }      /* Style Definitions */ table.MsoNormalTable {mso-style-name:"Table Normal"\; mso-tstyle-rowband-size:0\; mso-tstyle-colband-size:0\; mso-style-noshow:yes\; mso-style-parent:""\; mso-padding-alt:0in 5.4pt 0in 5.4pt\; mso-para-margin:0in\; mso-para-margin-bottom:.0001pt\; mso-pagination:widow-orphan\; font-size:10.0pt\; font-family:"Times New Roman"\; mso-ansi-language:#0400\; mso-fareast-language:#0400\; mso-bidi-language:#0400\;}                This is a MUST ATTEND webinar for ALL Realtors\, Builders\, Remodelers\, and New Home Sales \n Professionals.  \n \n You will learn how to:               Utilize effective and scripted loan qualifying questions               Competently discuss FHA\, VA & Conventional loan programs with the customer               Accurately (and unobtrusively) determine customers' debt to income ratios               Discuss credit worthiness with the customer               Provide the customer with simple and easy to understand printouts of the Move-in & \n    Monthly Costs               Demonstrate the tax benefits of home ownership               CLOSE for the SALE TODAY! \n Management will learn:               User friendly loan administration techniques               Available software solutions          Normal 0   false false false        MicrosoftInternetExplorer4       st1\\:*{behavior:url(#ieooui) }      /* Style Definitions */ table.MsoNormalTable {mso-style-name:"Table Normal"\; mso-tstyle-rowband-size:0\; mso-tstyle-colband-size:0\; mso-style-noshow:yes\; mso-style-parent:""\; mso-padding-alt:0in 5.4pt 0in 5.4pt\; mso-para-margin:0in\; mso-para-margin-bottom:.0001pt\; mso-pagination:widow-orphan\; font-size:10.0pt\; font-family:"Times New Roman"\; mso-ansi-language:#0400\; mso-fareast-language:#0400\; mso-bidi-language:#0400\;}                Presented by Christine Hamilton  CSP\, CMP.\n She is a past Division VP Sales & Marketing for Beazer Homes\, \n NAHB Salesperson of the Year\, 4x MAME Winner and former Mortgage Loan Counselor.  \n \n Hamilton offers an exceptional blend of experience\, energy and proven results to empower individuals \n and companies to achieve outstanding sales success.  She is the author of Sh*t HOTTT Sales : A \n Guide to Exceptional Salesmanship and coauthor of GPS for Success with Stephen Covey\, John \n Gray\, Les Brown et al.
X-ALT-DESC;FMTTYPE=text/html:<p><strong>The New Dynamics of Selling More Homes: Sponsored by the Sales &amp\; Marketing Council of the Builders League of South Jersey<br /> </strong></p> <p class="MsoNormal"><span style="color: rgb(255\, 0\, 0)\;"><span class="text"><b><u><span style="font-size: 12.5pt\;">No Financing = No Sale</span></u></b></span><span class="text"><b><span style="font-size: 12.5pt\;">: Financing Secrets of Top Salespeople</span></b></span></span><b><span style="font-size: 12.5pt\;"><br /> <br /> </span></b><span class="text"><span style="font-size: 10pt\;">It happens to virtually every salesperson on the planet: &nbsp\;You work hard listening and</span></span><span style="font-size: 10pt\;"><br /> <span class="text">understanding your buyer&rsquo\;s needs\; you present exactly the right home to meet those</span><br /> <span class="text">needs\; you develop rapport\, trust and excitement with your buyers\; you get them to the</span><br /> <span class="text">closing table... Only to lose the sale because they can&rsquo\;t get qualified with the lender.</span><br /> <br /> </span><span style="color: rgb(255\, 0\, 0)\;"><span class="text"><u><span style="font-size: 12.5pt\;">Don&rsquo\;t let that happen again!</span></u></span></span><u><span style="font-size: 12.5pt\; color: rgb(0\, 102\, 51)\;"><br /> <br /> </span></u><span class="text"><span style="font-size: 10pt\;">Buyers will not buy on their first visit unless and until they know if they can qualify for a mortgage loan\, how they</span></span><span style="font-size: 10pt\;"><br /> <span class="text">are going to pay for the home and what type of loan they can get. &nbsp\;</span><br /> <br /> <span class="text">Are you or your sales people dependent upon an outside lender to qualify your buyers? &nbsp\;</span><br /> <br /> <span class="text">Are you referring your buyers to someone who gets paid to originate a loan whether the customer buys from</span><br /> <span class="text">your company or some other builder? &nbsp\;</span><br /> <br /> <span class="text">Are your prospects buying elsewhere because your<i> competition </i>knows financing and can close for the sale on</span><br /> <span class="text">the buyers&rsquo\; first visit? &nbsp\;</span><br /> <br /> <span style="color: rgb(255\, 0\, 0)\;"><span class="text"><b>Top Sales Professionals </b></span></span><span class="text">- those who continue to sell no matter the market - know how to </span><span style="color: rgb(255\, 0\, 0)\;"><span class="text"><b><u>Talk Money</u> and </b></span><b><br soft="" /> <span class="text"><u>Close the Sale</u>!</span></b></span><span class="text"> &nbsp\;They realize the importance and power of understanding financing and how to use it as a tool</span><br /> <span class="text">to build trust\, rapport\, and value... And get more buyers closed!</span></span><o:p></o:p></p> <p class="MsoNormal"><o:p>&nbsp\;</o:p></p> <!--$img %ImageAssetImpl:/images/ChristineCrop1.jpg$--> <p class="MsoNormal"><o:p></o:p></p> <p class="MsoNormal" style="text-align: left\;"><span style="color: rgb(255\, 0\, 0)\;"><span class="text"><b><span style="font-size: 15pt\;">Register Now!</span></b></span></span><b><span style="font-size: 15pt\;"> Live Webinar<br /> </span></b><span class="text"><b><span style="font-size: 9pt\;" /></b></span><b><span style="font-size: 9pt\;"><span class="text"><br /> </span></span></b></p> <p>&nbsp\;</p> <p class="MsoNormal" style="text-align: left\;"><span style="color: rgb(255\, 0\, 0)\;"><span class="text"><b><span style="font-size: 11.5pt\;">Plan now to attend this special presentation. &nbsp\;Enroll your entire sales team today!<br /> </span></b></span></span><span class="text"><font size="4"><span style="font-size: 18px\; line-height: 22px\;">Turn customer financing into one of your strengths!  &nbsp\;Register and attend this special seminar with <br soft="" /> financing  expert Christine Hamilton\, and start making financing one of your  strengths!</span></font></span><span style="color: rgb(255\, 0\, 0)\;"><span class="text"><b><span style="font-size: 11.5pt\;"><br /> </span></b></span></span><span class="text" /></p> <p class="MsoNormal" style="text-align: left\;"><span style="color: rgb(255\, 0\, 0)\;"><span class="text"><b><span style="font-size: 11.5pt\;" /></b></span></span></p> <p class="MsoNormal" style="text-align: left\;"> <meta http-equiv="Content-Type" content="text/html\; charset=utf-8"> <meta name="ProgId" content="Word.Document"> <meta name="Generator" content="Microsoft Word 11"> <meta name="Originator" content="Microsoft Word 11"> <link href="file:///C:\\DOCUME~1\\Marlene\\LOCALS~1\\Temp\\msohtml1\\01\\clip_filelist.xml" rel="File-List" /><o:smarttagtype namespaceuri="urn:schemas-microsoft-com:office:smarttags" name="City" downloadurl="http://www.5iamas-microsoft-com:office:smarttags"></o:smarttagtype><o:smarttagtype namespaceuri="urn:schemas-microsoft-com:office:smarttags" name="place" downloadurl="http://www.5iantlavalamp.com/"></o:smarttagtype><!--[if gte mso 9]><xml> <w:WordDocument> <w:View>Normal</w:View> <w:Zoom>0</w:Zoom> <w:PunctuationKerning /> <w:ValidateAgainstSchemas /> <w:SaveIfXMLInvalid>false</w:SaveIfXMLInvalid> <w:IgnoreMixedContent>false</w:IgnoreMixedContent> <w:AlwaysShowPlaceholderText>false</w:AlwaysShowPlaceholderText> <w:Compatibility> <w:BreakWrappedTables /> <w:SnapToGridInCell /> <w:WrapTextWithPunct /> <w:UseAsianBreakRules /> <w:DontGrowAutofit /> </w:Compatibility> <w:BrowserLevel>MicrosoftInternetExplorer4</w:BrowserLevel> </w:WordDocument> </xml><![endif]--><!--[if gte mso 9]><xml> <w:LatentStyles DefLockedState="false" LatentStyleCount="156"> </w:LatentStyles> </xml><![endif]--><!--[if !mso]><object classid="clsid:38481807-CA0E-42D2-BF39-B33AF135CC4D" id=ieooui></object> <style> st1\\:*{behavior:url(#ieooui) } </style> <![endif]--><style type="text/css"> <!--  /* Font Definitions */  @font-face    {font-family:Wingdings\;    panose-1:5 0 0 0 0 0 0 0 0 0\;    mso-font-charset:2\;    mso-generic-font-family:auto\;    mso-font-pitch:variable\;    mso-font-signature:0 268435456 0 0 -2147483648 0\;}  /* Style Definitions */  p.MsoNormal\, li.MsoNormal\, div.MsoNormal    {mso-style-parent:""\;    margin:0in\;    margin-bottom:.0001pt\;    mso-pagination:widow-orphan\;    font-size:12.0pt\;    font-family:"Times New Roman"\;    mso-fareast-font-family:"Times New Roman"\;} span.text    {mso-style-name:text\;} @page Section1    {size:8.5in 11.0in\;    margin:1.0in 1.25in 1.0in 1.25in\;    mso-header-margin:.5in\;    mso-footer-margin:.5in\;    mso-paper-source:0\;} div.Section1    {page:Section1\;}  /* List Definitions */  @list l0    {mso-list-id:328876310\;    mso-list-template-ids:1897020508\;} @list l0:level1    {mso-level-number-format:bullet\;    mso-level-text:???\;    mso-level-tab-stop:.5in\;    mso-level-number-position:left\;    text-indent:-.25in\;    mso-ansi-font-size:10.0pt\;    font-family:Symbol\;} @list l1    {mso-list-id:1930500985\;    mso-list-template-ids:1480349994\;} @list l1:level1    {mso-level-number-format:bullet\;    mso-level-text:???\;    mso-level-tab-stop:.5in\;    mso-level-number-position:left\;    text-indent:-.25in\;    mso-ansi-font-size:10.0pt\;    font-family:Symbol\;} ol    {margin-bottom:0in\;} ul    {margin-bottom:0in\;} --> </style><!--[if gte mso 10]> <style> /* Style Definitions */ table.MsoNormalTable {mso-style-name:"Table Normal"\; mso-tstyle-rowband-size:0\; mso-tstyle-colband-size:0\; mso-style-noshow:yes\; mso-style-parent:""\; mso-padding-alt:0in 5.4pt 0in 5.4pt\; mso-para-margin:0in\; mso-para-margin-bottom:.0001pt\; mso-pagination:widow-orphan\; font-size:10.0pt\; font-family:"Times New Roman"\; mso-ansi-language:#0400\; mso-fareast-language:#0400\; mso-bidi-language:#0400\;} </style> <![endif]-->         </meta> </meta> </meta> </meta> </p> <p class="MsoNormal" style="margin-bottom: 12pt\;"><strong><span class="text"><span style="font-size: 10pt\;">This is a <em><u>MUST ATTEND</u></em> webinar for <em>ALL </em>Realtors\, Builders\, Remodelers\, and New Home Sales </span></span><span style="font-size: 10pt\;"><br soft="" /> <span class="text">Professionals. </span></span></strong><span style="font-size: 10pt\;"><span class="text"><b><i>&nbsp\;<br /> <span style="color: rgb(0\, 102\, 51)\;"><br /> </span><span style="color: rgb(255\, 0\, 0)\;">You will learn how to:</span></i></b></span></span><span class="text"><o:p></o:p></span></p> <p class="MsoNormal" style="margin-left: 25.05pt\; text-indent: -0.25in\;"><!--[if !supportLists]--><span style="font-size: 10pt\; font-family: Symbol\;"><span style="">&middot\;<span style="font: 7pt &quot\;Times New Roman&quot\;\;">&nbsp\;&nbsp\;&nbsp\;&nbsp\;&nbsp\;&nbsp\;&nbsp\;&nbsp\;&nbsp\;&nbsp\;&nbsp\;&nbsp\; </span></span></span><!--[endif]--><span style="font-size: 10pt\; font-family: Arial\; color: black\;">Utilize effective and scripted loan qualifying questions</span><o:p></o:p></p> <p class="MsoNormal" style="margin-left: 25.05pt\; text-indent: -0.25in\;"><!--[if !supportLists]--><span style="font-size: 10pt\; font-family: Symbol\; color: black\;"><span style="">&middot\;<span style="font: 7pt &quot\;Times New Roman&quot\;\;">&nbsp\;&nbsp\;&nbsp\;&nbsp\;&nbsp\;&nbsp\;&nbsp\;&nbsp\;&nbsp\;&nbsp\;&nbsp\;&nbsp\; </span></span></span><!--[endif]--><span style="font-size: 10pt\; font-family: Arial\; color: black\;">Competently discuss FHA\, VA &amp\; Conventional loan programs with the customer</span><span style="color: black\;"><o:p></o:p></span></p> <p class="MsoNormal" style="margin-left: 25.05pt\; text-indent: -0.25in\;"><!--[if !supportLists]--><span style="font-size: 10pt\; font-family: Symbol\; color: black\;"><span style="">&middot\;<span style="font: 7pt &quot\;Times New Roman&quot\;\;">&nbsp\;&nbsp\;&nbsp\;&nbsp\;&nbsp\;&nbsp\;&nbsp\;&nbsp\;&nbsp\;&nbsp\;&nbsp\;&nbsp\; </span></span></span><!--[endif]--><span style="font-size: 10pt\; font-family: Arial\; color: black\;">Accurately (and unobtrusively) determine customers&rsquo\; debt to income ratios</span><span style="color: black\;"><o:p></o:p></span></p> <p class="MsoNormal" style="margin-left: 25.05pt\; text-indent: -0.25in\;"><!--[if !supportLists]--><span style="font-size: 10pt\; font-family: Symbol\; color: black\;"><span style="">&middot\;<span style="font: 7pt &quot\;Times New Roman&quot\;\;">&nbsp\;&nbsp\;&nbsp\;&nbsp\;&nbsp\;&nbsp\;&nbsp\;&nbsp\;&nbsp\;&nbsp\;&nbsp\;&nbsp\; </span></span></span><!--[endif]--><span style="font-size: 10pt\; font-family: Arial\; color: black\;">Discuss credit worthiness with the customer</span><span style="color: black\;"><o:p></o:p></span></p> <p class="MsoNormal" style="margin-left: 25.05pt\; text-indent: -0.25in\;"><!--[if !supportLists]--><span style="font-size: 10pt\; font-family: Symbol\; color: black\;"><span style="">&middot\;<span style="font: 7pt &quot\;Times New Roman&quot\;\;">&nbsp\;&nbsp\;&nbsp\;&nbsp\;&nbsp\;&nbsp\;&nbsp\;&nbsp\;&nbsp\;&nbsp\;&nbsp\;&nbsp\; </span></span></span><!--[endif]--><span style="font-size: 10pt\; font-family: Arial\; color: black\;">Provide the customer with simple and easy to understand printouts of the Move-in &amp\; <br soft="" /> &nbsp\;&nbsp\; Monthly Costs</span><span style="color: black\;"><o:p></o:p></span></p> <p class="MsoNormal" style="margin-left: 25.05pt\; text-indent: -0.25in\;"><!--[if !supportLists]--><span style="font-size: 10pt\; font-family: Symbol\; color: black\;"><span style="">&middot\;<span style="font: 7pt &quot\;Times New Roman&quot\;\;">&nbsp\;&nbsp\;&nbsp\;&nbsp\;&nbsp\;&nbsp\;&nbsp\;&nbsp\;&nbsp\;&nbsp\;&nbsp\;&nbsp\; </span></span></span><!--[endif]--><span style="font-size: 10pt\; font-family: Arial\; color: black\;">Demonstrate the tax benefits of home ownership</span><span style="color: black\;"><o:p></o:p></span></p> <p class="MsoNormal" style="margin-left: 25.05pt\; text-indent: -0.25in\;"><!--[if !supportLists]--><span style="font-size: 10pt\; font-family: Symbol\; color: black\;"><span style="">&middot\;<span style="font: 7pt &quot\;Times New Roman&quot\;\;">&nbsp\;&nbsp\;&nbsp\;&nbsp\;&nbsp\;&nbsp\;&nbsp\;&nbsp\;&nbsp\;&nbsp\;&nbsp\;&nbsp\; </span></span></span><!--[endif]--><span style="font-size: 10pt\; font-family: Arial\; color: black\;">CLOSE for the <st1:city w:st="on"><st1:place w:st="on">SALE</st1:place></st1:city> TODAY!</span><span style="color: black\;"><o:p></o:p></span></p> <p class="MsoNormal"><span style="font-size: 10pt\;"><br /> <u><span style="color: rgb(255\, 0\, 0)\;"><span class="text"><b>Management will learn:</b></span></span><span class="text" /></u></span><span class="text"><o:p></o:p></span></p> <p class="MsoNormal" style="margin-left: 25.05pt\; text-indent: -0.25in\;"><!--[if !supportLists]--><span style="font-size: 10pt\; font-family: Symbol\; color: black\;"><span style="">&middot\;<span style="font: 7pt &quot\;Times New Roman&quot\;\;">&nbsp\;&nbsp\;&nbsp\;&nbsp\;&nbsp\;&nbsp\;&nbsp\;&nbsp\;&nbsp\;&nbsp\;&nbsp\;&nbsp\; </span></span></span><!--[endif]--><span style="font-size: 9pt\; font-family: Arial\; color: black\;">U</span><span style="font-size: 10pt\; font-family: Arial\; color: black\;">ser friendly loan administration techniques</span><span style="color: black\;"><o:p></o:p></span></p> <p class="MsoNormal" style="margin-left: 25.05pt\; text-indent: -0.25in\;"><!--[if !supportLists]--><span style="font-size: 10pt\; font-family: Symbol\; color: black\;"><span style="">&middot\;<span style="font: 7pt &quot\;Times New Roman&quot\;\;">&nbsp\;&nbsp\;&nbsp\;&nbsp\;&nbsp\;&nbsp\;&nbsp\;&nbsp\;&nbsp\;&nbsp\;&nbsp\;&nbsp\; </span></span></span><!--[endif]--><span style="font-size: 10pt\; font-family: Arial\; color: black\;">Available software solutions</span><span style="color: black\;"><o:p></o:p></span></p> <p class="MsoNormal"><o:p>&nbsp\;</o:p></p> <p class="MsoNormal"> <meta http-equiv="Content-Type" content="text/html\; charset=utf-8"> <meta name="ProgId" content="Word.Document"> <meta name="Generator" content="Microsoft Word 11"> <meta name="Originator" content="Microsoft Word 11"> <link href="file:///C:\\DOCUME~1\\Marlene\\LOCALS~1\\Temp\\msohtml1\\01\\clip_filelist.xml" rel="File-List" /><o:smarttagtype namespaceuri="urn:schemas-microsoft-com:office:smarttags" name="City" downloadurl="http://www.5iamas-microsoft-com:office:smarttags"></o:smarttagtype><o:smarttagtype namespaceuri="urn:schemas-microsoft-com:office:smarttags" name="place" downloadurl="http://www.5iantlavalamp.com/"></o:smarttagtype><!--[if gte mso 9]><xml> <w:WordDocument> <w:View>Normal</w:View> <w:Zoom>0</w:Zoom> <w:PunctuationKerning /> <w:ValidateAgainstSchemas /> <w:SaveIfXMLInvalid>false</w:SaveIfXMLInvalid> <w:IgnoreMixedContent>false</w:IgnoreMixedContent> <w:AlwaysShowPlaceholderText>false</w:AlwaysShowPlaceholderText> <w:Compatibility> <w:BreakWrappedTables /> <w:SnapToGridInCell /> <w:WrapTextWithPunct /> <w:UseAsianBreakRules /> <w:DontGrowAutofit /> </w:Compatibility> <w:BrowserLevel>MicrosoftInternetExplorer4</w:BrowserLevel> </w:WordDocument> </xml><![endif]--><!--[if gte mso 9]><xml> <w:LatentStyles DefLockedState="false" LatentStyleCount="156"> </w:LatentStyles> </xml><![endif]--><!--[if !mso]><object classid="clsid:38481807-CA0E-42D2-BF39-B33AF135CC4D" id=ieooui></object> <style> st1\\:*{behavior:url(#ieooui) } </style> <![endif]--><style type="text/css"> <!--  /* Style Definitions */  p.MsoNormal\, li.MsoNormal\, div.MsoNormal    {mso-style-parent:""\;    margin:0in\;    margin-bottom:.0001pt\;    mso-pagination:widow-orphan\;    font-size:12.0pt\;    font-family:"Times New Roman"\;    mso-fareast-font-family:"Times New Roman"\;} span.text    {mso-style-name:text\;} @page Section1    {size:8.5in 11.0in\;    margin:1.0in 1.25in 1.0in 1.25in\;    mso-header-margin:.5in\;    mso-footer-margin:.5in\;    mso-paper-source:0\;} div.Section1    {page:Section1\;} --> </style><!--[if gte mso 10]> <style> /* Style Definitions */ table.MsoNormalTable {mso-style-name:"Table Normal"\; mso-tstyle-rowband-size:0\; mso-tstyle-colband-size:0\; mso-style-noshow:yes\; mso-style-parent:""\; mso-padding-alt:0in 5.4pt 0in 5.4pt\; mso-para-margin:0in\; mso-para-margin-bottom:.0001pt\; mso-pagination:widow-orphan\; font-size:10.0pt\; font-family:"Times New Roman"\; mso-ansi-language:#0400\; mso-fareast-language:#0400\; mso-bidi-language:#0400\;} </style> <![endif]-->         </meta> </meta> </meta> </meta> </p> <p class="MsoNormal"><span class="text"><b><span style="font-size: 10pt\;">Presented by Christine Hamilton &nbsp\;CSP\, CMP.</span></b></span><b><span style="font-size: 10pt\;"><br /> </span></b><span class="text"><span style="font-size: 9pt\;">She is a past Division VP Sales &amp\; Marketing for Beazer Homes\, </span></span><span style="font-size: 9pt\;"><br soft="" /> <span class="text">NAHB Salesperson of the Year\, 4x MAME Winner and former Mortgage Loan Counselor. &nbsp\;</span><br /> <br /> <st1:city w:st="on"><st1:place w:st="on"><span class="text">Hamilton</span></st1:place></st1:city><span class="text"> offers an exceptional blend of experience\, energy and proven results to empower individuals </span><br soft="" /> <span class="text">and companies to achieve outstanding sales success. &nbsp\;She is the author of<b><i> Sh*t HOTTT Sales&trade\;: A </i></b></span><b><i><br soft="" /> <span class="text">Guide to Exceptional Salesmanship</span></i></b><span class="text"> and coauthor of <b>GPS for Success</b> with Stephen Covey\, John </span><br soft="" /> <span class="text">Gray\, Les Brown et al.</span></span></p> <p class="MsoNormal"><span style="font-size: 9pt\;"><span class="text" /></span></p> <p>&nbsp\;</p> <p>&nbsp\;</p> <p>&nbsp\;</p>
LOCATION:114 Haddontowne Court Cherry Hill\, NJ 08034
UID:e.9292.766
SEQUENCE:3
DTSTAMP:20260421T194454Z
URL:https://members.blsj.com/events/details/webinar-no-financing-no-sale-financing-secrets-of-top-salespeople-03-31-2010-766
END:VEVENT

END:VCALENDAR
