BEGIN:VCALENDAR
VERSION:2.0
PRODID:-//ChamberMaster//Event Calendar 2.0//EN
METHOD:PUBLISH
X-PUBLISHED-TTL:P3D
REFRESH-INTERVAL:P3D
CALSCALE:GREGORIAN
BEGIN:VEVENT
DTSTART:20100512T160000Z
DTEND:20100512T160000Z
X-MICROSOFT-CDO-ALLDAYEVENT:FALSE
SUMMARY:WEBINAR: Finding Buyers: Planning Your Marketing Strategy
DESCRIPTION:Finding Buyers: Planning Your Marketing Strategy Webinar/coaching session topic: How buyers shop today is radically different from what it was just 5 years ago. In fact\, 87% of buyers will first find you online... if they find you at all! Discover how to plan a marketing strategy that puts you in front of buyers quickly\, efficiently and affordably... And then put that plan to work! Presented by marketing strategist\, Jerry Costanzo\, G. L. Costanzo & Company. Jerry will walk you through the steps of market analysis - knowing what questions to ask\; aligning your product with market needs\; and how to anticipate market preferences of tomorrow so that you can continually develop the right product and options to keep on selling. Date: Wednesday\, May 12 Time:  2PM Eastern Presented by: Jerry Costanzo\, MIRM\, CMP\, CSP\, CAASH. G. L. Costanzo & Company Attend this webinar for free! This program will be presented live on Wednesday\, May 12 at 2:00pm ET\,
X-ALT-DESC;FMTTYPE=text/html:<p>Finding Buyers: Planning Your Marketing Strategy</p> <p>Webinar/coaching session topic:</p> <p>How buyers shop today is radically different from what it was just 5 years ago. In fact\, 87% of buyers will first find you online... if they find you at all! Discover how to plan a marketing strategy that puts you in front of buyers quickly\, efficiently and affordably... And then put that plan to work!</p> <p>Presented by marketing strategist\, Jerry Costanzo\, G. L. Costanzo &amp\; Company. Jerry will walk you through the steps of market analysis - knowing what questions to ask\; aligning your product with market needs\; and how to anticipate market preferences of tomorrow so that you can continually develop the right product and options to keep on selling.</p> <p>Date: Wednesday\, May 12</p> <p>Time:&nbsp\; 2PM Eastern</p> <p>Presented by: Jerry Costanzo\, MIRM\, CMP\, CSP\, CAASH. G. L. Costanzo &amp\; Company</p> <p>Attend this webinar for free!</p> <p>This program will be presented live on Wednesday\, May 12 at 2:00pm ET\,</p> <p>&nbsp\;</p>
LOCATION:114 Haddontowne Court Cherry Hill\, NJ 08034
UID:e.9292.1592
SEQUENCE:3
DTSTAMP:20260421T152201Z
URL:https://members.blsj.com/events/details/webinar-finding-buyers-planning-your-marketing-strategy-05-12-2010-1592
END:VEVENT

END:VCALENDAR
