BEGIN:VCALENDAR
VERSION:2.0
PRODID:-//ChamberMaster//Event Calendar 2.0//EN
METHOD:PUBLISH
X-PUBLISHED-TTL:P3D
REFRESH-INTERVAL:P3D
CALSCALE:GREGORIAN
BEGIN:VEVENT
DTSTART:20100416T160000Z
DTEND:20100416T160000Z
X-MICROSOFT-CDO-ALLDAYEVENT:FALSE
SUMMARY:Webinar:Financing Woes.Breaking Through the Borrowing Barrier:Financing Strategies to Sell More Home
DESCRIPTION:Financing Woes. Breaking  Through the Borrowing Barrier: Financing Strategies to Sell More  Homes. Trying to figure out the in's and out's  of financing and appraisals for new home sales?  Interview of the week. This  week we interview Charles  Graham\, of Newton Graham Consultants\, LLC. The challenges of  growing a homebuilding business in this economy are many. However\, understanding  trends allows builders and sales organizations to carefully plan strategies that  can help you position yourself solidly in the recovering market. \n \n Selling More Homes Media is sponsoring  a coaching/webinar on Friday\, April 16th at 2:00PM EST. The panel will  consist of experts from the financing\, real estate\, we may not be able to solve  the world's financial problems\, but maybe we can help you make that extra sale!  The coaching webinar would focus on ideas on how Realtors\, builders and new home  salespeople\, can work with banks in obtaining construction mortgage financing.  The discussion will also address the topic of appraisals and how to better  qualify customers\, to make sure you can get them financed.   Don't miss this  opportunity. Register today!  Date: Friday\,  April 16th\, 2010 Time: 2:00 PM Eastern Cost: NO CHARGE for the  live-event. Panelists:      Jack Gallagher\, a housing industry consultant\, with a strong  background in mortgage financing     Lincoln Wilson\, Real Estate Financing Certified Mortgage  Lender     Dr. Bill Merrell\, who runs one of the largest independent  schools in New York State\, for home inspectors\, appraisers and Realtors
X-ALT-DESC;FMTTYPE=text/html:<p style="text-align: left\;"><strong><font size="3">Financing Woes. Breaking  Through the Borrowing Barrier: Financing Strategies to Sell More  Homes.</font></strong></p> <p style="text-align: left\;"><font size="2">Trying to figure out the in&rsquo\;s and out&rsquo\;s  of financing and appraisals for new home sales? </font></p> <p><strong><font size="3">Interview of the week. </font></strong><font size="2">This  week we interview </font><font size="2" face="arial\,helvetica\,sans-serif">Charles  Graham\, of Newton Graham Consultants\, LLC. </font><font size="2">The challenges of  growing a homebuilding business in this economy are many. However\, understanding  trends allows builders and sales organizations to carefully plan strategies that  can help you position yourself solidly in the recovering market. <br /> </font><br /> <font size="2">Selling More Homes Media is sponsoring  a&nbsp\;<span style="text-decoration: underline\;" />coaching/webinar on Friday\, April 16<sup>th</sup> at 2:00PM EST. The panel will  consist of experts from the financing\, real estate\, we may not be able to solve  the world&rsquo\;s financial problems\, but maybe we can help you make that extra sale!  The coaching webinar would focus on ideas on how Realtors\, builders and new home  salespeople\, can work with banks in obtaining construction mortgage financing.  The discussion will also address the topic of appraisals and how to better  qualify customers\, to make sure you can get them financed.&nbsp\; </font></p> <p><a target="_blank" href="https://www1.gotomeeting.com/register/553010544" title="blocked::https://www1.gotomeeting.com/register/553010544"><font size="2" title="blocked::https://www1.gotomeeting.com/register/553010544"><strong title="blocked::https://www1.gotomeeting.com/register/553010544"><font face="arial\,helvetica\,sans-serif" title="blocked::https://www1.gotomeeting.com/register/553010544">Don&rsquo\;t</font> <font face="arial\,helvetica\,sans-serif" title="blocked::https://www1.gotomeeting.com/register/553010544"><strong title="blocked::https://www1.gotomeeting.com/register/553010544">miss this  opportunity. Register today!</strong></font> </strong></font></a></p> <p><font size="2" face="arial\,helvetica\,sans-serif"><strong>Date:</strong> Friday\,  April 16<sup>th</sup>\, 2010</font></p> <p><font size="2" face="arial\,helvetica\,sans-serif"><strong>Time:</strong> <strong>2:00 PM Eastern</strong></font></p> <p><font size="2"><strong>Cost:</strong> <span style="color: rgb(255\, 0\, 0)\;"><strong><span style="text-decoration: underline\;">NO CHARGE</span></strong></span> for the  live-event.</font></p> <p><font size="2"><strong>Panelists:</strong></font></p> <ul>     <li><font size="2">Jack Gallagher\, a housing industry consultant\, with a strong  background in mortgage financing</font></li>     <li><font size="2">Lincoln Wilson\, Real Estate Financing Certified Mortgage  Lender</font></li>     <li><font size="2">Dr. Bill Merrell\, who runs one of the largest independent  schools in New York State\, for home inspectors\, appraisers and Realtors</font></li> </ul> <p>&nbsp\;</p> <p><font size="2"><br /> </font></p>
LOCATION:114 Haddontowne Court Cherry Hill\, NJ 08034
UID:e.9292.1480
SEQUENCE:3
DTSTAMP:20260421T180526Z
URL:https://members.blsj.com/events/details/webinar-financing-woes-breaking-through-the-borrowing-barrier-financing-strategies-to-sell-more-home-04-16-2010-1480
END:VEVENT

END:VCALENDAR
