BEGIN:VCALENDAR
VERSION:2.0
PRODID:-//ChamberMaster//Event Calendar 2.0//EN
METHOD:PUBLISH
X-PUBLISHED-TTL:P3D
REFRESH-INTERVAL:P3D
CALSCALE:GREGORIAN
BEGIN:VEVENT
DTSTART:20100416T160000Z
DTEND:20100416T160000Z
X-MICROSOFT-CDO-ALLDAYEVENT:FALSE
SUMMARY:WEBINAR: CRUSHING THE BORROWING BARRIER: FINANCING STRATEGIES TO SELL MORE HOMES
DESCRIPTION:The New Dynamics of Selling More Homes: \n  Crushing the Borrowing Barrier: Financing Strategies  to Sell More Homes\n   \n Friday\,  April 16 at 2:00p ET \n \n A panel of mortgage and home  sales experts will share their best tips on how to streamline \n the  borrowing process\; how to help more buyers qualify for more money\; \n and  how and where to find mortgage and construction financing tailored for  today's market.   Plan now to attend this special presentation.  Enroll your entire sales team today!\n Turn customer financing into one of your strengths!   Register and attend this special seminar\, start making financing one of your  strengths!\n          Normal 0   false false false        MicrosoftInternetExplorer4       st1\\:*{behavior:url(#ieooui) }      /* Style Definitions */ table.MsoNormalTable {mso-style-name:"Table Normal"\; mso-tstyle-rowband-size:0\; mso-tstyle-colband-size:0\; mso-style-noshow:yes\; mso-style-parent:""\; mso-padding-alt:0in 5.4pt 0in 5.4pt\; mso-para-margin:0in\; mso-para-margin-bottom:.0001pt\; mso-pagination:widow-orphan\; font-size:10.0pt\; font-family:"Times New Roman"\; mso-ansi-language:#0400\; mso-fareast-language:#0400\; mso-bidi-language:#0400\;}                This is a MUST ATTEND webinar for ALL Realtors\, Builders\, Remodelers\, and New Home Sales \n Professionals.  \n \n           Normal 0   false false false        MicrosoftInternetExplorer4       st1\\:*{behavior:url(#ieooui) }      /* Style Definitions */ table.MsoNormalTable {mso-style-name:"Table Normal"\; mso-tstyle-rowband-size:0\; mso-tstyle-colband-size:0\; mso-style-noshow:yes\; mso-style-parent:""\; mso-padding-alt:0in 5.4pt 0in 5.4pt\; mso-para-margin:0in\; mso-para-margin-bottom:.0001pt\; mso-pagination:widow-orphan\; font-size:10.0pt\; font-family:"Times New Roman"\; mso-ansi-language:#0400\; mso-fareast-language:#0400\; mso-bidi-language:#0400\;}
X-ALT-DESC;FMTTYPE=text/html:<p><strong>The New Dynamics of Selling More Homes: <br /> </strong></p> <p><span class="text"><font size="4"><span style="font-size: 22px\; line-height: 26px\;">Crushing the Borrowing Barrier: Financing Strategies  to Sell More Homes</span></font><font size="3"><span style="font-size: 16px\; line-height: 19px\;"><br /> &nbsp\; </span></font><u><font size="3"><span style="font-size: 16px\; line-height: 19px\;"><br /> Friday\,  April 16 at 2:00p ET</span></font></u><font size="3"><span style="font-size: 16px\; line-height: 19px\;"> <br /> <br /> A panel of mortgage and home  sales experts will share their best tips on how to streamline <br /> the  borrowing process\; how to help more buyers qualify for more money\; <br /> and  how and where to find mortgage and construction financing tailored for  today&rsquo\;s market.</span></font></span></p> <p>&nbsp\;</p> <p class="MsoNormal" style="text-align: left\;"><span style="color: rgb(255\, 0\, 0)\;"><span class="text"><b><span style="font-size: 11.5pt\;">Plan now to attend this special presentation. &nbsp\;Enroll your entire sales team today!<br /> </span></b></span></span><span class="text"><font size="4"><span style="font-size: 18px\; line-height: 22px\;">Turn customer financing into one of your strengths!  &nbsp\;Register and attend this special seminar\, start making financing one of your  strengths!</span></font></span><span style="color: rgb(255\, 0\, 0)\;"><span class="text"><b><span style="font-size: 11.5pt\;"><br /> </span></b></span></span><span class="text" /></p> <p class="MsoNormal" style="text-align: left\;"><span style="color: rgb(255\, 0\, 0)\;"><span class="text"><b><span style="font-size: 11.5pt\;" /></b></span></span></p> <p class="MsoNormal" style="text-align: left\;"> <meta http-equiv="Content-Type" content="text/html\; charset=utf-8"> <meta name="ProgId" content="Word.Document"> <meta name="Generator" content="Microsoft Word 11"> <meta name="Originator" content="Microsoft Word 11"> <link href="file:///C:\\DOCUME~1\\Marlene\\LOCALS~1\\Temp\\msohtml1\\01\\clip_filelist.xml" rel="File-List" /><o:smarttagtype namespaceuri="urn:schemas-microsoft-com:office:smarttags" name="City" downloadurl="http://www.5iamas-microsoft-com:office:smarttags"></o:smarttagtype><o:smarttagtype namespaceuri="urn:schemas-microsoft-com:office:smarttags" name="place" downloadurl="http://www.5iantlavalamp.com/"></o:smarttagtype><!--[if gte mso 9]><xml> <w:WordDocument> <w:View>Normal</w:View> <w:Zoom>0</w:Zoom> <w:PunctuationKerning /> <w:ValidateAgainstSchemas /> <w:SaveIfXMLInvalid>false</w:SaveIfXMLInvalid> <w:IgnoreMixedContent>false</w:IgnoreMixedContent> <w:AlwaysShowPlaceholderText>false</w:AlwaysShowPlaceholderText> <w:Compatibility> <w:BreakWrappedTables /> <w:SnapToGridInCell /> <w:WrapTextWithPunct /> <w:UseAsianBreakRules /> <w:DontGrowAutofit /> </w:Compatibility> <w:BrowserLevel>MicrosoftInternetExplorer4</w:BrowserLevel> </w:WordDocument> </xml><![endif]--><!--[if gte mso 9]><xml> <w:LatentStyles DefLockedState="false" LatentStyleCount="156"> </w:LatentStyles> </xml><![endif]--><!--[if !mso]><object classid="clsid:38481807-CA0E-42D2-BF39-B33AF135CC4D" id=ieooui></object> <style> st1\\:*{behavior:url(#ieooui) } </style> <![endif]--><style type="text/css"> <!--  /* Font Definitions */  @font-face    {font-family:Wingdings\;    panose-1:5 0 0 0 0 0 0 0 0 0\;    mso-font-charset:2\;    mso-generic-font-family:auto\;    mso-font-pitch:variable\;    mso-font-signature:0 268435456 0 0 -2147483648 0\;}  /* Style Definitions */  p.MsoNormal\, li.MsoNormal\, div.MsoNormal    {mso-style-parent:""\;    margin:0in\;    margin-bottom:.0001pt\;    mso-pagination:widow-orphan\;    font-size:12.0pt\;    font-family:"Times New Roman"\;    mso-fareast-font-family:"Times New Roman"\;} span.text    {mso-style-name:text\;} @page Section1    {size:8.5in 11.0in\;    margin:1.0in 1.25in 1.0in 1.25in\;    mso-header-margin:.5in\;    mso-footer-margin:.5in\;    mso-paper-source:0\;} div.Section1    {page:Section1\;}  /* List Definitions */  @list l0    {mso-list-id:328876310\;    mso-list-template-ids:1897020508\;} @list l0:level1    {mso-level-number-format:bullet\;    mso-level-text:???\;    mso-level-tab-stop:.5in\;    mso-level-number-position:left\;    text-indent:-.25in\;    mso-ansi-font-size:10.0pt\;    font-family:Symbol\;} @list l1    {mso-list-id:1930500985\;    mso-list-template-ids:1480349994\;} @list l1:level1    {mso-level-number-format:bullet\;    mso-level-text:???\;    mso-level-tab-stop:.5in\;    mso-level-number-position:left\;    text-indent:-.25in\;    mso-ansi-font-size:10.0pt\;    font-family:Symbol\;} ol    {margin-bottom:0in\;} ul    {margin-bottom:0in\;} --> </style><!--[if gte mso 10]> <style> /* Style Definitions */ table.MsoNormalTable {mso-style-name:"Table Normal"\; mso-tstyle-rowband-size:0\; mso-tstyle-colband-size:0\; mso-style-noshow:yes\; mso-style-parent:""\; mso-padding-alt:0in 5.4pt 0in 5.4pt\; mso-para-margin:0in\; mso-para-margin-bottom:.0001pt\; mso-pagination:widow-orphan\; font-size:10.0pt\; font-family:"Times New Roman"\; mso-ansi-language:#0400\; mso-fareast-language:#0400\; mso-bidi-language:#0400\;} </style> <![endif]-->         </meta> </meta> </meta> </meta> </p> <p class="MsoNormal" style="margin-left: 25.05pt\; text-indent: -0.25in\;"><strong><span class="text"><span style="font-size: 10pt\;">This is a <em><u>MUST ATTEND</u></em> webinar for <em>ALL </em>Realtors\, Builders\, Remodelers\, and New Home Sales </span></span><span style="font-size: 10pt\;"><br soft="" /> <span class="text">Professionals. </span></span></strong><span style="font-size: 10pt\;"><span class="text"><b><i>&nbsp\;<br /> <span style="color: rgb(0\, 102\, 51)\;"><br /> </span><span style="color: rgb(255\, 0\, 0)\;" /></i></b></span></span><span style="font-size: 10pt\; font-family: Arial\; color: black\;" /><span style="color: black\;"><o:p></o:p></span></p> <p class="MsoNormal"><o:p>&nbsp\;</o:p></p> <p class="MsoNormal"> <meta http-equiv="Content-Type" content="text/html\; charset=utf-8"> <meta name="ProgId" content="Word.Document"> <meta name="Generator" content="Microsoft Word 11"> <meta name="Originator" content="Microsoft Word 11"> <link href="file:///C:\\DOCUME~1\\Marlene\\LOCALS~1\\Temp\\msohtml1\\01\\clip_filelist.xml" rel="File-List" /><o:smarttagtype namespaceuri="urn:schemas-microsoft-com:office:smarttags" name="City" downloadurl="http://www.5iamas-microsoft-com:office:smarttags"></o:smarttagtype><o:smarttagtype namespaceuri="urn:schemas-microsoft-com:office:smarttags" name="place" downloadurl="http://www.5iantlavalamp.com/"></o:smarttagtype><!--[if gte mso 9]><xml> <w:WordDocument> <w:View>Normal</w:View> <w:Zoom>0</w:Zoom> <w:PunctuationKerning /> <w:ValidateAgainstSchemas /> <w:SaveIfXMLInvalid>false</w:SaveIfXMLInvalid> <w:IgnoreMixedContent>false</w:IgnoreMixedContent> <w:AlwaysShowPlaceholderText>false</w:AlwaysShowPlaceholderText> <w:Compatibility> <w:BreakWrappedTables /> <w:SnapToGridInCell /> <w:WrapTextWithPunct /> <w:UseAsianBreakRules /> <w:DontGrowAutofit /> </w:Compatibility> <w:BrowserLevel>MicrosoftInternetExplorer4</w:BrowserLevel> </w:WordDocument> </xml><![endif]--><!--[if gte mso 9]><xml> <w:LatentStyles DefLockedState="false" LatentStyleCount="156"> </w:LatentStyles> </xml><![endif]--><!--[if !mso]><object classid="clsid:38481807-CA0E-42D2-BF39-B33AF135CC4D" id=ieooui></object> <style> st1\\:*{behavior:url(#ieooui) } </style> <![endif]--><style type="text/css"> <!--  /* Style Definitions */  p.MsoNormal\, li.MsoNormal\, div.MsoNormal    {mso-style-parent:""\;    margin:0in\;    margin-bottom:.0001pt\;    mso-pagination:widow-orphan\;    font-size:12.0pt\;    font-family:"Times New Roman"\;    mso-fareast-font-family:"Times New Roman"\;} span.text    {mso-style-name:text\;} @page Section1    {size:8.5in 11.0in\;    margin:1.0in 1.25in 1.0in 1.25in\;    mso-header-margin:.5in\;    mso-footer-margin:.5in\;    mso-paper-source:0\;} div.Section1    {page:Section1\;} --> </style><!--[if gte mso 10]> <style> /* Style Definitions */ table.MsoNormalTable {mso-style-name:"Table Normal"\; mso-tstyle-rowband-size:0\; mso-tstyle-colband-size:0\; mso-style-noshow:yes\; mso-style-parent:""\; mso-padding-alt:0in 5.4pt 0in 5.4pt\; mso-para-margin:0in\; mso-para-margin-bottom:.0001pt\; mso-pagination:widow-orphan\; font-size:10.0pt\; font-family:"Times New Roman"\; mso-ansi-language:#0400\; mso-fareast-language:#0400\; mso-bidi-language:#0400\;} </style> <![endif]-->         </meta> </meta> </meta> </meta> </p> <p class="MsoNormal"><span class="text"><b><span style="font-size: 10pt\;" /></b></span><span style="font-size: 9pt\;"><span class="text"><br /> </span></span></p> <p class="MsoNormal"><span style="font-size: 9pt\;"><span class="text" /></span></p> <p>&nbsp\;</p> <p>&nbsp\;</p> <p>&nbsp\;</p>
LOCATION:114 Haddontowne Court Cherry Hill\, NJ 08034
UID:e.9292.1350
SEQUENCE:3
DTSTAMP:20260421T180440Z
URL:https://members.blsj.com/events/details/webinar-crushing-the-borrowing-barrier-financing-strategies-to-sell-more-homes-04-16-2010-1350
END:VEVENT

END:VCALENDAR
