BEGIN:VCALENDAR
VERSION:2.0
PRODID:-//ChamberMaster//Event Calendar 2.0//EN
METHOD:PUBLISH
X-PUBLISHED-TTL:P3D
REFRESH-INTERVAL:P3D
CALSCALE:GREGORIAN
BEGIN:VEVENT
DTSTART:20090917T160000Z
DTEND:20090917T160000Z
X-MICROSOFT-CDO-ALLDAYEVENT:FALSE
SUMMARY:Webinar: Beyond the Best-Case Scenario: Positioning Your Company to Take Advantage of the Downturn
DESCRIPTION:Beyond the Best-Case Scenario: Positioning Your Company to Take Advantage of the Downturn\n \n Location: Builders League of South Jersey\n \n Time: 2:00 p.m. - 3:00 p.m.\n \n Investment: $10.00 per person\n \n Single family home sales rose 11% in June\, according to the U.S. Department of Commerce. This is great news\, but the housing industry isn't done transforming itself yet.\n \n When the dust of the housing shakeup settles\, the builders and other housing professionals left standing strong will be the ones who made a plan for the future. What's the smartest way to create that plan while staying on top of the current market's challenges?\n \n In the Beyond the Best-Case Scenario audio seminar\, Ross Robbins and Manny Schatz\, outline a three-step process to do just that. It starts with controlling what can be controlled now and preparing for any market in the future. This approach puts you in the driver's seat and helps you to be more realistic about your options. Robbins' strategic process will show you how to make decisions deliberately instead of desperately.\n \n Participate in this seminar and you'll take away: Step-by-step methods for mapping out your business strategy\n *\n Ways to evaluate your local market to make future plans\n *\n A plan to manage your cash and credit\n *\n Methods for seeking out opportunities in the current market\n *\n Knowledge of the "right" sales scripts This seminar will show you how to most effectively use your resources and develop a vision for the future while staying focused on what needs to be done day-to-day. You can get ready for the next phase\, no matter what it is why not start now?\n \n Who Should Attend: CSP\, Master CSP\, CMP and MIRM designation holders\n *\n Marketing\, Advertising\, Public Relations and Sales professionals\n *\n Architects\, Planners and Designers\n *\n Retail Dealers and Distributors\n *\n Single Family Builders and General Contractors\n *\n Multifamily Builders and Contractors\n *\n Remodelers The one-hour call will include the presentation as well as questions from the audience. Questions can be submitted in advance until Friday\, September 11 to nsmcaudio@nahb.com.\n \n 1.0 hour continuing education credit counts toward NAHB's professional designations.
X-ALT-DESC;FMTTYPE=text/html:<p><strong><span style="color: #ff0000">Beyond the Best-Case Scenario:&nbsp\;Positioning Your Company to Take Advantage of the Downturn<br /> <br /> </span></strong><span style="color: #000000"><strong>Location: Builders League of South Jersey<br /> <br /> Time: 2:00 p.m. - 3:00 p.m.<br /> <br /> Investment: $10.00 per person</strong><br /> <br /> </span>Single family home sales rose 11% in June\, according to the U.S. Department of Commerce. This is great news\, but the housing industry isn&rsquo\;t done transforming itself yet.<br /> <br /> When the dust of the housing shakeup settles\, the builders and other housing professionals left standing strong will be the ones who made a plan for the future. What&rsquo\;s the smartest way to create that plan while staying on top of the current market&rsquo\;s challenges?<br /> <br /> In the Beyond the Best-Case Scenario audio seminar\, <strong>Ross Robbins </strong>and<strong> Manny Schatz</strong>\, outline a three-step process to do just that. It starts with controlling what can be controlled now and preparing for any market in the future. This approach puts you in the driver&rsquo\;s seat and helps you to be more realistic about your options. Robbins&rsquo\; strategic process will show you how to make decisions deliberately instead of desperately.<br /> <br /> Participate in this seminar and you&rsquo\;ll take away:</p> <p>Step-by-step methods for mapping out your business strategy<br /> *<br /> Ways to evaluate your local market to make future plans<br /> *<br /> A plan to manage your cash and credit<br /> *<br /> Methods for seeking out opportunities in the current market<br /> *<br /> Knowledge of the &ldquo\;right&rdquo\; sales scripts</p> <p>This seminar will show you how to most effectively use your resources and develop a vision for the future while staying focused on what needs to be done day-to-day. You can get ready for the next phase\, no matter what it is&mdash\;why not start now?<br /> <br /> Who Should Attend:</p> <p>CSP\, Master CSP\, CMP and MIRM designation holders<br /> *<br /> Marketing\, Advertising\, Public Relations and Sales professionals<br /> *<br /> Architects\, Planners and Designers<br /> *<br /> Retail Dealers and Distributors<br /> *<br /> Single Family Builders and General Contractors<br /> *<br /> Multifamily Builders and Contractors<br /> *<br /> Remodelers</p> <p>The one-hour call will include the presentation as well as questions from the audience. Questions can be submitted in advance until Friday\, September 11 to nsmcaudio@nahb.com.<br /> <br /> <span style="color: #ff0000"><strong>1.0 hour continuing education credit counts toward NAHB&rsquo\;s professional designations.</strong></span><br /> <br /> &nbsp\;</p>
LOCATION:114 Haddontowne Court Cherry Hill\, NJ 08034
UID:e.9292.896
SEQUENCE:3
DTSTAMP:20260422T040421Z
URL:https://members.blsj.com/events/details/webinar-beyond-the-best-case-scenario-positioning-your-company-to-take-advantage-of-the-downturn-09-17-2009-896
END:VEVENT

END:VCALENDAR
