BEGIN:VCALENDAR
VERSION:2.0
PRODID:-//ChamberMaster//Event Calendar 2.0//EN
METHOD:PUBLISH
X-PUBLISHED-TTL:P3D
REFRESH-INTERVAL:P3D
CALSCALE:GREGORIAN
BEGIN:VEVENT
DTSTART:20060221T170000Z
DTEND:20060221T230000Z
X-MICROSOFT-CDO-ALLDAYEVENT:FALSE
SUMMARY:Water Supply Task Force Meeting - Postponed
DESCRIPTION:
X-ALT-DESC;FMTTYPE=text/html:
LOCATION:BLSJ Cherry Hill\, NJ 08034
UID:e.9292.765
SEQUENCE:3
DTSTAMP:20260421T122719Z
URL:https://members.blsj.com/events/details/water-supply-task-force-meeting-postponed-02-21-2006-765
END:VEVENT

END:VCALENDAR
