BEGIN:VCALENDAR
VERSION:2.0
PRODID:-//ChamberMaster//Event Calendar 2.0//EN
METHOD:PUBLISH
X-PUBLISHED-TTL:P3D
REFRESH-INTERVAL:P3D
CALSCALE:GREGORIAN
BEGIN:VEVENT
DTSTART:20050614T220000Z
DTEND:20050614T160000Z
X-MICROSOFT-CDO-ALLDAYEVENT:FALSE
SUMMARY:Water Supply Task Force Meeting - 06/14/2005
DESCRIPTION:
X-ALT-DESC;FMTTYPE=text/html:
LOCATION:BLSJ Cherry Hill\, NJ 08034
UID:e.9292.1475
SEQUENCE:3
DTSTAMP:20260421T020120Z
URL:https://members.blsj.com/events/details/water-supply-task-force-meeting-06-14-2005-06-14-2005-1475
END:VEVENT

END:VCALENDAR
