BEGIN:VCALENDAR
VERSION:2.0
PRODID:-//ChamberMaster//Event Calendar 2.0//EN
METHOD:PUBLISH
X-PUBLISHED-TTL:P3D
REFRESH-INTERVAL:P3D
CALSCALE:GREGORIAN
BEGIN:VEVENT
DTSTART:20060419T160000Z
DTEND:20060419T160000Z
X-MICROSOFT-CDO-ALLDAYEVENT:FALSE
SUMMARY:Vegas Poker - to Benefit the BLSJ Charitable Foundation
DESCRIPTION:Please join us for the 2nd Annual Poker Tournament There is limited seating to play - register early to guarantee your seat. Great Prizes - Food - Excitement   We are also accepting donations of prizes/give-aways/sponsorships Please contact the League office for more information NOTE: THIS EVENT CANNOT BE PAID FOR ONLINE - PLEASE CONTACT THE LEAGUE OFFICE FOR PAYMENT OPTIONS
X-ALT-DESC;FMTTYPE=text/html:Please join us for the 2nd Annual Poker Tournament There is limited seating to play - register early to guarantee your seat. Great Prizes - Food - Excitement   We are also accepting donations of prizes/give-aways/sponsorships Please contact the League office for more information NOTE: THIS EVENT CANNOT BE PAID FOR ONLINE - PLEASE CONTACT THE LEAGUE OFFICE FOR PAYMENT OPTIONS
LOCATION:Regency Palace Mt. Laurel\, NJ 00000
UID:e.9292.893
SEQUENCE:3
DTSTAMP:20260421T152403Z
URL:https://members.blsj.com/events/details/vegas-poker-to-benefit-the-blsj-charitable-foundation-04-19-2006-893
END:VEVENT

END:VCALENDAR
