BEGIN:VCALENDAR
VERSION:2.0
PRODID:-//ChamberMaster//Event Calendar 2.0//EN
METHOD:PUBLISH
X-PUBLISHED-TTL:P3D
REFRESH-INTERVAL:P3D
CALSCALE:GREGORIAN
BEGIN:VEVENT
DTSTART:20050819T160000Z
DTEND:20050819T160000Z
X-MICROSOFT-CDO-ALLDAYEVENT:FALSE
SUMMARY:USG ROCK ON TOUR - CANCELLED
DESCRIPTION:The USG ROCK ON Tour Includes:        On-site English and Spanish Speaking Tour Drivers/Managers Product Demonstrations Product Mock-Ups Giveaways and Raffle Items Sound System with Music  Products  FIBEROCK Interior Panel  -   FIBEROCKÂ® Brand AQUA-TOUGH Interior Panels represent a new era in substrate performance. These panels are designed for wall assemblies in high-traffic areas where moisture\, mold and fire resistance are especially important. -   FIBEROCK Brand AQUA-TOUGH Interior Panels feature a smooth\, paintable surface that can also                 be finished with ceramic tile.  FIBEROCK Underlayment  Water-resistant product for all residential underlayment needs -   Meets underlayment needs in both wet and dry areas throughout the home. -   Ideal under vinyl\, ceramic tile\, hardwood flooring\, laminate flooring\, and carpeting. -   Provides a smooth\, flat surface. -   Resists indentation from heels and furniture. -   Free of resins\, adhesives\, and solvents. -   Tested by Tile Council of America (Robinson Floor Test Method) and approved for residential and light commercial use (as defined by TCA).  Primer Surfacer Tuff-Hide   Skim coats and primes new drywall in a single spray application. -   Use in lieu of skim coat and primer coat in a Level 5 gypsum board finish -   Minimizes callbacks caused by joint banding and photographing -   Installed cost savings versus traditional separate applications of a skim coat and a prime coat -   Durable coating hides minor surface defects -   Ensures smoother finished walls and ceilings than by simply using a drywall primer  Paper Faced Metal Bead  -   More than 50 years' experience manufacturing paper faced metal bead and trim. -   Unmatched technical expertise in manufacturing for superior product performance.  -   Patented nose coating over the paper eliminates fuzzing during sanding for faster\, better finishing     -   Superior bond between the paper and metal prevents delamination. -   Outstanding bond with joint compound prevents edge cracking and chipping.
X-ALT-DESC;FMTTYPE=text/html:The USG ROCK ON Tour Includes:        On-site English and Spanish Speaking Tour Drivers/Managers Product Demonstrations Product Mock-Ups Giveaways and Raffle Items Sound System with Music  Products  FIBEROCK Interior Panel  -   FIBEROCKÂ® Brand AQUA-TOUGH Interior Panels represent a new era in substrate performance. These panels are designed for wall assemblies in high-traffic areas where moisture\, mold and fire resistance are especially important. -   FIBEROCK Brand AQUA-TOUGH Interior Panels feature a smooth\, paintable surface that can also                 be finished with ceramic tile.  FIBEROCK Underlayment  Water-resistant product for all residential underlayment needs -   Meets underlayment needs in both wet and dry areas throughout the home. -   Ideal under vinyl\, ceramic tile\, hardwood flooring\, laminate flooring\, and carpeting. -   Provides a smooth\, flat surface. -   Resists indentation from heels and furniture. -   Free of resins\, adhesives\, and solvents. -   Tested by Tile Council of America (Robinson Floor Test Method) and approved for residential and light commercial use (as defined by TCA).  Primer Surfacer Tuff-Hide   Skim coats and primes new drywall in a single spray application. -   Use in lieu of skim coat and primer coat in a Level 5 gypsum board finish -   Minimizes callbacks caused by joint banding and photographing -   Installed cost savings versus traditional separate applications of a skim coat and a prime coat -   Durable coating hides minor surface defects -   Ensures smoother finished walls and ceilings than by simply using a drywall primer  Paper Faced Metal Bead  -   More than 50 years' experience manufacturing paper faced metal bead and trim. -   Unmatched technical expertise in manufacturing for superior product performance.  -   Patented nose coating over the paper eliminates fuzzing during sanding for faster\, better finishing     -   Superior bond between the paper and metal prevents delamination. -   Outstanding bond with joint compound prevents edge cracking and chipping.   
LOCATION:Builders League of South Jersey 114 Haddontowne Ct Cherry Hill\, NJ 08034
UID:e.9292.1589
SEQUENCE:3
DTSTAMP:20260421T042804Z
URL:https://members.blsj.com/events/details/usg-rock-on-tour-cancelled-08-19-2005-1589
END:VEVENT

END:VCALENDAR
