BEGIN:VCALENDAR
VERSION:2.0
PRODID:-//ChamberMaster//Event Calendar 2.0//EN
METHOD:PUBLISH
X-PUBLISHED-TTL:P3D
REFRESH-INTERVAL:P3D
CALSCALE:GREGORIAN
BEGIN:VEVENT
DTSTART:20060216T230000Z
DTEND:20060216T170000Z
X-MICROSOFT-CDO-ALLDAYEVENT:FALSE
SUMMARY:Uncovering the Hidden Costs of Warranty Admin and Customer Servic
DESCRIPTION:While new-home warranties are required in New Jersey\, the cost of warranty administration and customer service impacts your profitability in several areas you should consider.  Tony Fazio and Mike Savage\, Managing Partners of Home Management Systems\, will discuss critical points that impact your bottom line.  Topics will include:     Customer Service and the Next Sale    Controlling your Homebuyer's Expectations    Defining the Process    Production vs. Customer Service  Presented by:   Tony Fazio & Mike Savage Managing Partners - Home Management Systems
X-ALT-DESC;FMTTYPE=text/html:While new-home warranties are required in New Jersey\, the cost of warranty administration and customer service impacts your profitability in several areas you should consider.  Tony Fazio and Mike Savage\, Managing Partners of Home Management Systems\, will discuss critical points that impact your bottom line.  Topics will include:     Customer Service and the Next Sale    Controlling your Homebuyer's Expectations    Defining the Process    Production vs. Customer Service  Presented by:   Tony Fazio & Mike Savage Managing Partners - Home Management Systems  
LOCATION:Builders League Cherry Hill\, NJ 08034
UID:e.9292.892
SEQUENCE:3
DTSTAMP:20260421T123533Z
URL:https://members.blsj.com/events/details/uncovering-the-hidden-costs-of-warranty-admin-and-customer-servic-02-16-2006-892
END:VEVENT

END:VCALENDAR
