BEGIN:VCALENDAR
VERSION:2.0
PRODID:-//ChamberMaster//Event Calendar 2.0//EN
METHOD:PUBLISH
X-PUBLISHED-TTL:P3D
REFRESH-INTERVAL:P3D
CALSCALE:GREGORIAN
BEGIN:VEVENT
DTSTART:20060421T220000Z
DTEND:20060421T160000Z
X-MICROSOFT-CDO-ALLDAYEVENT:FALSE
SUMMARY:"The Power of Promotional Products"
DESCRIPTION:Promotional Marketing The Power of Promotional Products  Friday\, April 21\, 2006  Learn how to increase your bottom line by understanding the capability of this powerful marketing medium. Discover the key steps involved in creating a successful\, targeted promotion and eliminate the waste associated with other forms of media. Get the best results for your time and money.      What are Promotional Products and Why are they so Powerful?    Four Factors of Successful Promotions    Reaping the Rewards of Residual Marketing    Defining Giveaway vs. Promotion    Maximizing Trade Show Response    Reinforcing Brand Values    Tips on Choosing an Appropriate Product    Which Products are Most Popular?  Presented by:   Tracy Easton
X-ALT-DESC;FMTTYPE=text/html:Promotional Marketing The Power of Promotional Products  Friday\, April 21\, 2006  Learn how to increase your bottom line by understanding the capability of this powerful marketing medium. Discover the key steps involved in creating a successful\, targeted promotion and eliminate the waste associated with other forms of media. Get the best results for your time and money.      What are Promotional Products and Why are they so Powerful?    Four Factors of Successful Promotions    Reaping the Rewards of Residual Marketing    Defining Giveaway vs. Promotion    Maximizing Trade Show Response    Reinforcing Brand Values    Tips on Choosing an Appropriate Product    Which Products are Most Popular?  Presented by:   Tracy Easton             
LOCATION:Builders League 114 Haddontowne Ct Cherry Hill\, NJ 08034
UID:e.9292.180
SEQUENCE:3
DTSTAMP:20260421T152601Z
URL:https://members.blsj.com/events/details/the-power-of-promotional-products-04-21-2006-180
END:VEVENT

END:VCALENDAR
