BEGIN:VCALENDAR
VERSION:2.0
PRODID:-//ChamberMaster//Event Calendar 2.0//EN
METHOD:PUBLISH
X-PUBLISHED-TTL:P3D
REFRESH-INTERVAL:P3D
CALSCALE:GREGORIAN
BEGIN:VEVENT
DTSTART:20041210T230000Z
DTEND:20041210T170000Z
X-MICROSOFT-CDO-ALLDAYEVENT:FALSE
SUMMARY:"The Ins and Outs of Health Insurance for the Small Business"
DESCRIPTION:
X-ALT-DESC;FMTTYPE=text/html:
LOCATION:\, NJ
UID:e.9292.101
SEQUENCE:3
DTSTAMP:20260420T185550Z
URL:https://members.blsj.com/events/details/the-ins-and-outs-of-health-insurance-for-the-small-business-12-10-2004-101
END:VEVENT

END:VCALENDAR
