BEGIN:VCALENDAR
VERSION:2.0
PRODID:-//ChamberMaster//Event Calendar 2.0//EN
METHOD:PUBLISH
X-PUBLISHED-TTL:P3D
REFRESH-INTERVAL:P3D
CALSCALE:GREGORIAN
BEGIN:VEVENT
DTSTART:20060615T220000Z
DTEND:20060615T220000Z
X-MICROSOFT-CDO-ALLDAYEVENT:FALSE
SUMMARY:The Benefits of GPS-Based Vehicle Monitoring
DESCRIPTION:How would your business change if you could ride with each of your mobile employees all day\, every day?  This seminar will focus on the following areas:   A.   Challenges faced by companies with mobile workforces B.   Overview of GPS-based technology C.   Demo of a leading vehicle monitoring solution D.   Efficiency tools which lower operational costs\; increase productivity\; save time\; provide peace of mind and much more...  Note: All attendees will receive a free report entitled\, "Bringing a New Sense of Accountability to the Driver's Seat"  Instructor: Steve Johnson\, Mobile Management Resources\, LLC Steve Johnson is a Partner and Vice President of Business Development for Mobile Management Resources\, LLC\, located in Moorestown\, NJ. Steve's expertise includes  working with business owners and fleet managers\, in a consultative role\, to determine the right fleet management solution(s) for their specific needs.
X-ALT-DESC;FMTTYPE=text/html:How would your business change if you could ride with each of your mobile employees all day\, every day?  This seminar will focus on the following areas:   A.   Challenges faced by companies with mobile workforces B.   Overview of GPS-based technology C.   Demo of a leading vehicle monitoring solution D.   Efficiency tools which lower operational costs\; increase productivity\; save time\; provide peace of mind and much more...  Note: All attendees will receive a free report entitled\, "Bringing a New Sense of Accountability to the Driver's Seat"  Instructor: Steve Johnson\, Mobile Management Resources\, LLC Steve Johnson is a Partner and Vice President of Business Development for Mobile Management Resources\, LLC\, located in Moorestown\, NJ. Steve's expertise includes  working with business owners and fleet managers\, in a consultative role\, to determine the right fleet management solution(s) for their specific needs.    
LOCATION:Builders League of South Jersey Cherry Hill\, NJ 08034
UID:e.9292.1320
SEQUENCE:3
DTSTAMP:20260421T194420Z
URL:https://members.blsj.com/events/details/the-benefits-of-gps-based-vehicle-monitoring-06-15-2006-1320
END:VEVENT

END:VCALENDAR
