BEGIN:VCALENDAR
VERSION:2.0
PRODID:-//ChamberMaster//Event Calendar 2.0//EN
METHOD:PUBLISH
X-PUBLISHED-TTL:P3D
REFRESH-INTERVAL:P3D
CALSCALE:GREGORIAN
BEGIN:VEVENT
DTSTART:20050218T230000Z
DTEND:20050218T230000Z
X-MICROSOFT-CDO-ALLDAYEVENT:FALSE
SUMMARY:"The Battles Over Water Supplies and How That Affects You"
DESCRIPTION:Speaker: Joseph J. Hochreiter\, Vice President Blasland\, Bouck & Lee\, Inc.
X-ALT-DESC;FMTTYPE=text/html:Speaker: Joseph J. Hochreiter\, Vice President Blasland\, Bouck & Lee\, Inc.   
LOCATION:BLSJ Cherry Hill\, NJ 08034
UID:e.9292.100
SEQUENCE:3
DTSTAMP:20260420T210312Z
URL:https://members.blsj.com/events/details/the-battles-over-water-supplies-and-how-that-affects-you-02-18-2005-100
END:VEVENT

END:VCALENDAR
