BEGIN:VCALENDAR
VERSION:2.0
PRODID:-//ChamberMaster//Event Calendar 2.0//EN
METHOD:PUBLISH
X-PUBLISHED-TTL:P3D
REFRESH-INTERVAL:P3D
CALSCALE:GREGORIAN
BEGIN:VEVENT
DTSTART:20060525T220000Z
DTEND:20060525T220000Z
X-MICROSOFT-CDO-ALLDAYEVENT:FALSE
SUMMARY:The ABC's of Whole Home Integrated Technology Systems
DESCRIPTION:The ABC's of Whole Home Integrated Technology Systems  This seminar will focus on how a Whole Home Integrated Technology System (With one touch of a button) can adjust the security\, cooling\, heating and lighting automatically for comfort\, energy savings\, and convenience in today's custom home. We will review the latest trends\, and simple\, affordable upgrades that attract homebuyers. Learn how to increase sales and establish a profit center.   Presented by: Shawn Kirk\, Director Automation Sales and Pam Merklinger\, Builder Specialist Warshauer Electric
X-ALT-DESC;FMTTYPE=text/html:The ABC's of Whole Home Integrated Technology Systems  This seminar will focus on how a Whole Home Integrated Technology System (With one touch of a button) can adjust the security\, cooling\, heating and lighting automatically for comfort\, energy savings\, and convenience in today's custom home. We will review the latest trends\, and simple\, affordable upgrades that attract homebuyers. Learn how to increase sales and establish a profit center.   Presented by: Shawn Kirk\, Director Automation Sales and Pam Merklinger\, Builder Specialist Warshauer Electric
LOCATION:Builders League Office Cherry Hill\, NJ 08034
UID:e.9292.891
SEQUENCE:3
DTSTAMP:20260421T181927Z
URL:https://members.blsj.com/events/details/the-abc-s-of-whole-home-integrated-technology-systems-05-25-2006-891
END:VEVENT

END:VCALENDAR
