BEGIN:VCALENDAR
VERSION:2.0
PRODID:-//ChamberMaster//Event Calendar 2.0//EN
METHOD:PUBLISH
X-PUBLISHED-TTL:P3D
REFRESH-INTERVAL:P3D
CALSCALE:GREGORIAN
BEGIN:VEVENT
DTSTART:20050315T170000Z
DTEND:20050315T230000Z
X-MICROSOFT-CDO-ALLDAYEVENT:FALSE
SUMMARY:Tele-Seminar: Turn Any Objection Into a Signed Contract
DESCRIPTION:Builders League of South Jersey is proud to sponsor this private tele-seminar exclusively for Builders League of South Jersey members and special guests entitled\, "That's Too Much Money!"   Phil Rea\, widely recognized as the leading sales consultant and motivational speaker in the remodeling industry today\, will be presenting this informative and money-making tele-seminar.  When:  Tuesday\, March 15\, 2005 Time:  1:00 PM Eastern Duration: 90 Minutes Who:  For ALL In-Home Salespeople\, Owners and Sales Managers  To register online visit: http://www.mastermind-training.com/blsj   Are You Tired Of Hearing These Three Objections And Ready To Do Something About It?  ** That's Too Much Money! ** I Want to Think About It. ** I Need Another Estimate.  During this telephone workshop Phil will share his trademark system that can turn any objection into a signed contract.  In fact\, learning just a few basic techniques can be worth well over $100\,000 a year to you in additional sales-per salesperson!  This call is a must for all salespeople\, owners and sales managers.   To register immediately visit http://www.mastermind- training.com/blsj
X-ALT-DESC;FMTTYPE=text/html:Builders League of South Jersey is proud to sponsor this private tele-seminar exclusively for Builders League of South Jersey members and special guests entitled\, "That's Too Much Money!"   Phil Rea\, widely recognized as the leading sales consultant and motivational speaker in the remodeling industry today\, will be presenting this informative and money-making tele-seminar.  When:  Tuesday\, March 15\, 2005 Time:  1:00 PM Eastern Duration: 90 Minutes Who:  For ALL In-Home Salespeople\, Owners and Sales Managers  To register online visit: http://www.mastermind-training.com/blsj   Are You Tired Of Hearing These Three Objections And Ready To Do Something About It?  ** That's Too Much Money! ** I Want to Think About It. ** I Need Another Estimate.  During this telephone workshop Phil will share his trademark system that can turn any objection into a signed contract.  In fact\, learning just a few basic techniques can be worth well over $100\,000 a year to you in additional sales-per salesperson!  This call is a must for all salespeople\, owners and sales managers.   To register immediately visit http://www.mastermind- training.com/blsj  
LOCATION:\, NJ
UID:e.9292.1470
SEQUENCE:3
DTSTAMP:20260420T221701Z
URL:https://members.blsj.com/events/details/tele-seminar-turn-any-objection-into-a-signed-contract-03-15-2005-1470
END:VEVENT

END:VCALENDAR
