BEGIN:VCALENDAR
VERSION:2.0
PRODID:-//ChamberMaster//Event Calendar 2.0//EN
METHOD:PUBLISH
X-PUBLISHED-TTL:P3D
REFRESH-INTERVAL:P3D
CALSCALE:GREGORIAN
BEGIN:VEVENT
DTSTART:20100621T220000Z
DTEND:20100621T220000Z
X-MICROSOFT-CDO-ALLDAYEVENT:FALSE
SUMMARY:SUMMER GOLF OUTING - LAUREL CREEK COUNTRY CLUB
DESCRIPTION:time:\n Registration & Breakfast 7:30   9:00 a.m.\n Tee-Off (Shotgun): 9:00 a.m.\n Open Bar\, Luncheon 2:30 p.m. - ????\n Dessert & awards presentation  About Laurel Creek CC: This links-style course is known for its high fescue rough\, rolling fairways\, wide\, fast greens and 14 picturesque lakes. Attendees may register for the open bar\, luncheon for only $50 per person (see registration form). tournament format:\n 4 Person Scramble Double Bogie Max. Score\n cost: $200 per person\n $759. Foursome Registration Includes:\n Round of Golf\n Breakfast\, Lunch Buffet \n Variety of snacks & beverages on course\n Golf Cart\n Unlimited use of the practice range\n Open bar during lunch\n Dessert\, Coffee NEW!! \n Save money and buy a \n SUPER TICKET: for $25 at the door to receive the following:\n 3 Mulligans\n 1 "Move the Ball a Yard"\n Entrance in Putting Contest\n Entrance in Closest to Pin Contest\n Chance to win $100 AMEX gift card   From the tips\, Laurel Creek plays 7\,000 yards\, yet with the 5 tees that are offered\, it excites and challenges all from beginners to scratch golfers. Laurel Creek has gained respect as one of the finest golf courses in New Jersey and the entire Delaware Valley. As proud host of the 1997 PGA Nike Laurel Creek Classic\, the golf course won the respect of the PGA.\n \n Mark your calendars now and SAVE THE DATE for golf at it's finest at Laurel Creek Country Club!
X-ALT-DESC;FMTTYPE=text/html:<p><span style="font-size: x-small"><span style="font-family: Arial">time:<br /> Registration &amp\; Breakfast 7:30 &ndash\; 9:00 a.m.<br /> Tee-Off (Shotgun): 9:00 a.m.<br /> Open Bar\, Luncheon 2:30 p.m. - ????<br /> Dessert &amp\; awards presentation </span></span><span style="font-size: x-small"><span style="font-family: Arial">&nbsp\;About Laurel Creek CC: This links-style course is known for its high fescue rough\, rolling fairways\, wide\, fast greens and 14 picturesque lakes.</span></span><span style="font-size: small" /></p> <p>Attendees may register for the open bar\, luncheon for only $50 per person (see registration form).</p> <p>tournament format:<br /> 4 Person Scramble&mdash\;Double Bogie Max. Score<br /> cost: $200 per person<br /> $759. Foursome</p> <p>Registration Includes:<br /> Round of Golf<br /> Breakfast\, Lunch Buffet <br /> Variety of snacks &amp\; beverages on course<br /> Golf Cart<br /> Unlimited use of the practice range<br /> Open bar during lunch<br /> Dessert\, Coffee</p> <p><span style="color: #ff0000"><strong>NEW!! <br /> Save money and buy a <br /> SUPER TICKET:&nbsp\;for $25 at the door&nbsp\;to receive the following:<br /> 3 Mulligans<br /> 1 &ldquo\;Move the Ball a Yard&rdquo\;<br /> Entrance in Putting Contest<br /> Entrance in Closest to Pin Contest<br /> Chance to win $100 AMEX gift card</strong></span></p> <p>&nbsp\;</p> <p><span style="font-size: x-small"><span style="font-family: Arial">From the tips\, Laurel Creek plays 7\,000 yards\, yet with the 5 tees that are offered\, it excites and challenges all from beginners to scratch golfers.</span></span><span style="font-size: small" /></p> <p><span style="font-size: x-small"><span style="font-family: Arial">Laurel Creek has gained respect as one of the finest golf courses in New Jersey and the entire Delaware Valley. As proud host of the 1997 PGA Nike Laurel Creek Classic\, the golf course won the respect of the PGA.<br /> <br /> Mark your calendars now and SAVE THE DATE for golf at it&rsquo\;s finest at Laurel Creek Country Club!</span></span><span style="font-size: small" /><span style="font-size: medium" /><span style="font-size: small" /></p>
LOCATION:701 Centerton Road Mt. Laurel\, NJ 08054
UID:e.9292.888
SEQUENCE:3
DTSTAMP:20260421T132604Z
URL:https://members.blsj.com/events/details/summer-golf-outing-laurel-creek-country-club-06-21-2010-888
END:VEVENT

END:VCALENDAR
