BEGIN:VCALENDAR
VERSION:2.0
PRODID:-//ChamberMaster//Event Calendar 2.0//EN
METHOD:PUBLISH
X-PUBLISHED-TTL:P3D
REFRESH-INTERVAL:P3D
CALSCALE:GREGORIAN
BEGIN:VEVENT
DTSTART:20060711T160000Z
DTEND:20060711T160000Z
X-MICROSOFT-CDO-ALLDAYEVENT:FALSE
SUMMARY:Summer - Catch Up & Cook Out Bar-B-Que
DESCRIPTION:Catch Up & Cook Out at a casual backyard barbecue (burgers & brew).  It's a great chance to catch up with old friends\, see some new faces\, and learn what's happening at the Builders League
X-ALT-DESC;FMTTYPE=text/html:Catch Up & Cook Out at a casual backyard barbecue (burgers & brew).  It's a great chance to catch up with old friends\, see some new faces\, and learn what's happening at the Builders League
LOCATION:Builders League office 114 Haddontowne Ct Cherry Hill\, NJ 08034
UID:e.9292.1503
SEQUENCE:3
DTSTAMP:20260421T193850Z
URL:https://members.blsj.com/events/details/summer-catch-up-cook-out-bar-b-que-07-11-2006-1503
END:VEVENT

END:VCALENDAR
