BEGIN:VCALENDAR
VERSION:2.0
PRODID:-//ChamberMaster//Event Calendar 2.0//EN
METHOD:PUBLISH
X-PUBLISHED-TTL:P3D
REFRESH-INTERVAL:P3D
CALSCALE:GREGORIAN
BEGIN:VEVENT
DTSTART:20060607T160000Z
DTEND:20060607T160000Z
X-MICROSOFT-CDO-ALLDAYEVENT:FALSE
SUMMARY:Strategic Plan Session - Postponed
DESCRIPTION:Work session to review and make recommendations to the BLSJ Strategic Plan
X-ALT-DESC;FMTTYPE=text/html:Work session to review and make recommendations to the BLSJ Strategic Plan
LOCATION:BLSJ Cherry Hill\, NJ 08034
UID:e.9292.1467
SEQUENCE:3
DTSTAMP:20260421T183236Z
URL:https://members.blsj.com/events/details/strategic-plan-session-postponed-06-07-2006-1467
END:VEVENT

END:VCALENDAR
