BEGIN:VCALENDAR
VERSION:2.0
PRODID:-//ChamberMaster//Event Calendar 2.0//EN
METHOD:PUBLISH
X-PUBLISHED-TTL:P3D
REFRESH-INTERVAL:P3D
CALSCALE:GREGORIAN
BEGIN:VEVENT
DTSTART:20060816T160000Z
DTEND:20060816T220000Z
X-MICROSOFT-CDO-ALLDAYEVENT:FALSE
SUMMARY:Strategic Plan Review - 08/16/2006
DESCRIPTION:Follow-up meeting of the Executive Committee and Committee Chairpersons to review and recommend changes to the League's Strategic Plan.
X-ALT-DESC;FMTTYPE=text/html:Follow-up meeting of the Executive Committee and Committee Chairpersons to review and recommend changes to the League's Strategic Plan.
LOCATION:BLSJ Cherry Hill\, NJ 08034
UID:e.9292.880
SEQUENCE:3
DTSTAMP:20260421T211215Z
URL:https://members.blsj.com/events/details/strategic-plan-review-08-16-2006-08-16-2006-880
END:VEVENT

END:VCALENDAR
