BEGIN:VCALENDAR
VERSION:2.0
PRODID:-//ChamberMaster//Event Calendar 2.0//EN
METHOD:PUBLISH
X-PUBLISHED-TTL:P3D
REFRESH-INTERVAL:P3D
CALSCALE:GREGORIAN
BEGIN:VEVENT
DTSTART:20060719T220000Z
DTEND:20060719T220000Z
X-MICROSOFT-CDO-ALLDAYEVENT:FALSE
SUMMARY:Strategic Plan Review - 07/19/2006
DESCRIPTION:Meeting of the Executive Committee and Committee Chairpersons to review and recommend changes to the League's Strategic Plan.
X-ALT-DESC;FMTTYPE=text/html:Meeting of the Executive Committee and Committee Chairpersons to review and recommend changes to the League's Strategic Plan.
LOCATION:BLSJ Cherry Hill\, NJ 08034
UID:e.9292.1586
SEQUENCE:3
DTSTAMP:20260421T193814Z
URL:https://members.blsj.com/events/details/strategic-plan-review-07-19-2006-07-19-2006-1586
END:VEVENT

END:VCALENDAR
