BEGIN:VCALENDAR
VERSION:2.0
PRODID:-//ChamberMaster//Event Calendar 2.0//EN
METHOD:PUBLISH
X-PUBLISHED-TTL:P3D
REFRESH-INTERVAL:P3D
CALSCALE:GREGORIAN
BEGIN:VEVENT
DTSTART:20090514T160000Z
DTEND:20090514T160000Z
X-MICROSOFT-CDO-ALLDAYEVENT:FALSE
SUMMARY:Stimulus Opportunities for Builders: Exploring Commercial Opportunities in the Stimulus Package
DESCRIPTION:Audio Seminar at the Builders League Stimulus Opportunities for Builders: Exploring Commercial Opportunities in the Stimulus Package May 14\, 2009\n 2:00 PM - 3:00 PM ET\n $25 pp \n The new stimulus package includes billions of dollars for infrastructure\, which means a lot of work is on the horizon for some lucky commercial builders. Want to get a piece of the action\, but don't know where to start? Diversifying into commercial building is easier than you think. The NAHB Audio Seminar\, "Stimulus opportunities for Builders" will explain what the stimulus package entails and show you what you need to know to gain work on government projects.\n \n Participate in the Seminar and discover: *\n What parts of the stimulus package are relevant to your business\n *\n How members like you are getting involved in stimulus-funded\n projects\n *\n Before\, during\, and after private funding alternatives that are\n working right now The seminar will also include information about connecting with federal contractors to work as subcontractors on commercial construction jobs.\n \n Bidding for government contracts can be intimidating if you're not familiar with the process. The Audio Seminar will feature builders with more than 20 years of experience with government contracts and an attorney who specializes in contract law.\n Who Should Attend *\n Single and multifamily builders\n *\n Commercial builders\n *\n Remodelers\n *\n Developers\n *\n Suppliers and manufacturers of building materials The one-hour call will include the presentation as well as questions from the audience. Questions can be submitted in advance through Friday\, May 8 to commercialbuilders@nahb.com.\n \n Speakers: \n \n Educational Credit: 1.0 hour continuing education credit toward NAHB's professional designations...\n CAPS\, CGA\, CGB\, CGR\, CMP\, CSP\, GMB\, MIRM\, MCSP\, CAASH\, CGP\, GMR
X-ALT-DESC;FMTTYPE=text/html:<p style="text-align: center"><span style="color: #ff0000"><strong><span style="font-size: small">Audio Seminar at the Builders League</span></strong></span></p> <p style="text-align: center"><span style="font-size: medium"><span style="color: #ff0000"><strong>Stimulus Opportunities for Builders:</strong></span></span><span style="color: #ff0000" /></p> <p style="text-align: center"><span style="font-size: medium"><span style="color: #ff0000"><strong>Exploring Commercial Opportunities in the Stimulus Package</strong></span></span><span style="color: #ff0000" /></p> <p style="text-align: center"><strong><span style="font-size: small">May 14\, 2009<br /> 2:00 PM - 3:00 PM ET<br /> $25 pp</span></strong></p> <p style="text-align: center"><br /> The new stimulus package includes billions of dollars for infrastructure\, which means a lot of work is on the horizon for some lucky commercial builders. Want to get a piece of the action\, but don&rsquo\;t know where to start? Diversifying into commercial building is easier than you think. The NAHB Audio Seminar\, &ldquo\;Stimulus opportunities for Builders&rdquo\; will explain what the stimulus package entails and show you what you need to know to gain work on government projects.<br /> <br /> Participate in the Seminar and discover:</p> <p style="text-align: center">*<br /> What parts of the stimulus package are relevant to your business<br /> *<br /> How members like you are getting involved in stimulus-funded<br /> projects<br /> *<br /> Before\, during\, and after&mdash\;private funding alternatives that are<br /> working right now</p> <p style="text-align: center">The seminar will also include information about connecting with federal contractors to work as subcontractors on commercial construction jobs.<br /> <br /> Bidding for government contracts can be intimidating if you&rsquo\;re not familiar with the process. The Audio Seminar will feature builders with more than 20 years of experience with government contracts and an attorney who specializes in contract law.<br /> Who Should Attend</p> <p style="text-align: center">*<br /> Single and multifamily builders<br /> *<br /> Commercial builders<br /> *<br /> Remodelers<br /> *<br /> Developers<br /> *<br /> Suppliers and manufacturers of building materials</p> <p style="text-align: center">The one-hour call will include the presentation as well as questions from the audience. Questions can be submitted in advance through Friday\, May 8 to commercialbuilders@nahb.com.<br /> <br /> Speakers: <br /> <br /> Educational Credit: 1.0 hour continuing education credit toward NAHB&rsquo\;s professional designations...<br /> CAPS\, CGA\, CGB\, CGR\, CMP\, CSP\, GMB\, MIRM\, MCSP\, CAASH\, CGP\, GMR</p>
LOCATION:114 Haddontowne Court Cherry Hill\, NJ 08034
UID:e.9292.879
SEQUENCE:3
DTSTAMP:20260422T075200Z
URL:https://members.blsj.com/events/details/stimulus-opportunities-for-builders-exploring-commercial-opportunities-in-the-stimulus-package-05-14-2009-879
END:VEVENT

END:VCALENDAR
