BEGIN:VCALENDAR
VERSION:2.0
PRODID:-//ChamberMaster//Event Calendar 2.0//EN
METHOD:PUBLISH
X-PUBLISHED-TTL:P3D
REFRESH-INTERVAL:P3D
CALSCALE:GREGORIAN
BEGIN:VEVENT
DTSTART:20100519T010000Z
DTEND:20100518T160000Z
X-MICROSOFT-CDO-ALLDAYEVENT:FALSE
SUMMARY:STEVE EASLEY SEMINAR: BETTER DESIGN & BUILDING PRACTICES FOR REDUCING MOLD\, WATER & MOISTURE PROBLEM
DESCRIPTION:v\\:* {behavior:url(#default#VML)\;} o\\:* {behavior:url(#default#VML)\;} b\\:* {behavior:url(#default#VML)\;} .shape {behavior:url(#default#VML)\;}    285  7772400 10058400  259 261 257 280 262 283 1 09BY\;-5[-RTB?[]Y"U*U=Y0 5 1 0   286 False 0 0      -1    304800 243 True 128 77 255 3175 3175 70 True True True True True   282  134217728    1   4 -9999996.000000 -9999996.000000     8  Empty  8388608   13408665   15125708   13421772   16711680   10027110   16777215   33 True Navy     -87325200 -87325200  (`@````````` 267 263 5                    Internationally Recognized Building Scientist:  Steve Easley   Better Design and Building Practices for  Reducing Mold\, Water and Moisture Problems\n \n   Who Should Attend: __  Builders  _  Remodelers  _  Architects __ Contractors \n  Litigation surrounding water and moisture-related problems in \n residential construction has risen dramatically in recent years.   Some experts estimate that as much as 80% of construction defect litigation in the residential construction market segment is due to water and moisture-related failures.   Using photos gathered from years of field experience\, Steve examines common design defects which create moisture problems and lead to callbacks.   We'll also identify and show common installation errors\, and help your audience learn how to select building materials that lead to a more durable building.         Steve Easley is an internationally recognized construction consultant specializing in solving building science related problems and educating building industry professionals and their trade partners. His work focuses on increasing quality of construction\, sustainability and reducing costly mistakes that lead to construction defects and call backs. Services provided include job site quality analysis\, design review\, educational seminars\, mediation and product consulting. \n Steve is nationally known for his cost effective\, practical approaches to building high performance structures and quality assurance. \n \n Steve's mission is helping industry professionals build structures that are durable\, energy efficient\, healthy and comfortable to live and work in.  He has more than 30 years of industry experience. He has performed thousands of jobsite quality surveys and presented numerous building science seminars to construction professionals around the world with an annual audience of 8-10\,000 industry professionals. He is a frequently requested speaker because of his practical approach to building science\, his dynamic speaking style and his unique ability to explain complex concepts in simple terms that can be integrated into practice. Steve speaks regularly for these and other professional organizations and conferences.
X-ALT-DESC;FMTTYPE=text/html:<p> <meta http-equiv="Content-Type" content="text/html\; charset=utf-8" /> <meta name="ProgId" content="Publisher.Document" /> <meta name="Generator" content="Microsoft Publisher 11" /><link href="file:///C:\\DOCUME~1\\Marlene\\LOCALS~1\\Temp\\msohtml1\\01\\clip_filelist.xml" rel="File-List" /><!--[if !mso]> <style> v\\:* {behavior:url(#default#VML)\;} o\\:* {behavior:url(#default#VML)\;} b\\:* {behavior:url(#default#VML)\;} .shape {behavior:url(#default#VML)\;} </style> <![endif]--><!--[if pub]><xml> <b:Publication type="OplPub" oty="68" oh="256"> <b:OhPrintBlock priv="30E">285</b:OhPrintBlock> <b:DptlPageDimensions type="OplPt" priv="1211"> <b:Xl priv="104">7772400</b:Xl> <b:Yl priv="204">10058400</b:Yl> </b:DptlPageDimensions> <b:OhGallery priv="180E">259</b:OhGallery> <b:OhFancyBorders priv="190E">261</b:OhFancyBorders> <b:OhCaptions priv="1A0E">257</b:OhCaptions> <b:OhQuillDoc priv="200E">280</b:OhQuillDoc> <b:OhMailMergeData priv="210E">262</b:OhMailMergeData> <b:OhColorScheme priv="220E">283</b:OhColorScheme> <b:DwNextUniqueOid priv="2304">1</b:DwNextUniqueOid> <b:IdentGUID priv="2A07">09BY\;-5[-RTB?[]Y&quot\;U*U=Y0</b:IdentGUID> <b:DpgSpecial priv="2C03">5</b:DpgSpecial> <b:CTimesEdited priv="3C04">1</b:CTimesEdited> <b:NuDefaultUnitsEx priv="4104">0</b:NuDefaultUnitsEx> </b:Publication> <b:PrinterInfo type="OplPrb" oty="75" oh="285"> <b:OhColorSepBlock priv="30E">286</b:OhColorSepBlock> <b:FInitComplete priv="1400">False</b:FInitComplete> <b:DpiX priv="2203">0</b:DpiX> <b:DpiY priv="2303">0</b:DpiY> </b:PrinterInfo> <b:ColorSeperationInfo type="OplCsb" oty="79" oh="286"> <b:Plates type="OplCsp" priv="214"> <b:OplCsp type="OplCsp" priv="11"> <b:EcpPlate type="OplEcp" priv="213"> <b:Color priv="104">-1</b:Color> </b:EcpPlate> </b:OplCsp> </b:Plates> <b:DzlOverprintMost priv="304">304800</b:DzlOverprintMost> <b:CprOverprintMin priv="404">243</b:CprOverprintMin> <b:FKeepawayTrap priv="700">True</b:FKeepawayTrap> <b:CprTrapMin1 priv="904">128</b:CprTrapMin1> <b:CprTrapMin2 priv="A04">77</b:CprTrapMin2> <b:CprKeepawayMin priv="B04">255</b:CprKeepawayMin> <b:DzlTrap priv="C04">3175</b:DzlTrap> <b:DzlIndTrap priv="D04">3175</b:DzlIndTrap> <b:PctCenterline priv="E04">70</b:PctCenterline> <b:FMarksRegistration priv="F00">True</b:FMarksRegistration> <b:FMarksJob priv="1000">True</b:FMarksJob> <b:FMarksDensity priv="1100">True</b:FMarksDensity> <b:FMarksColor priv="1200">True</b:FMarksColor> <b:FLineScreenDefault priv="1300">True</b:FLineScreenDefault> </b:ColorSeperationInfo> <b:TextDocProperties type="OplDocq" oty="91" oh="280"> <b:OhPlcqsb priv="20E">282</b:OhPlcqsb> <b:EcpSplitMenu type="OplEcp" priv="A13"> <b:Color>134217728</b:Color> </b:EcpSplitMenu> </b:TextDocProperties> <b:StoryBlock type="OplPlcQsb" oty="101" oh="282"> <b:IqsbMax priv="104">1</b:IqsbMax> <b:Rgqsb type="OplQsb" priv="214"> <b:OplQsb type="OplQsb" priv="11"> <b:Qsid priv="104">4</b:Qsid> <b:TomfCopyfitBase priv="80B">-9999996.000000</b:TomfCopyfitBase> <b:TomfCopyfitBase2 priv="90B">-9999996.000000</b:TomfCopyfitBase2> </b:OplQsb> </b:Rgqsb> </b:StoryBlock> <b:ColorScheme type="OplSccm" oty="92" oh="283"> <b:Cecp priv="104">8</b:Cecp> <b:Rgecp type="OplEcp" priv="214"> <b:OplEcp priv="F">Empty</b:OplEcp> <b:OplEcp type="OplEcp" priv="111"> <b:Color>8388608</b:Color> </b:OplEcp> <b:OplEcp type="OplEcp" priv="211"> <b:Color>13408665</b:Color> </b:OplEcp> <b:OplEcp type="OplEcp" priv="311"> <b:Color>15125708</b:Color> </b:OplEcp> <b:OplEcp type="OplEcp" priv="411"> <b:Color>13421772</b:Color> </b:OplEcp> <b:OplEcp type="OplEcp" priv="511"> <b:Color>16711680</b:Color> </b:OplEcp> <b:OplEcp type="OplEcp" priv="611"> <b:Color>10027110</b:Color> </b:OplEcp> <b:OplEcp type="OplEcp" priv="711"> <b:Color>16777215</b:Color> </b:OplEcp> </b:Rgecp> <b:IScheme priv="304">33</b:IScheme> <b:FUserOwnsScheme priv="500">True</b:FUserOwnsScheme> <b:SzSchemeName priv="618">Navy</b:SzSchemeName> </b:ColorScheme> </xml><![endif]--><!--[if pub]><xml> <b:Page type="OplPd" oty="67" oh="266"> <b:PtlvOrigin type="OplPt" priv="511"> <b:Xl>-87325200</b:Xl> <b:Yl>-87325200</b:Yl> </b:PtlvOrigin> <b:Oid priv="605">(`@`````````</b:Oid> <b:OhoplWebPageProps priv="90E">267</b:OhoplWebPageProps> <b:OhpdMaster priv="D0D">263</b:OhpdMaster> <b:PgtType priv="1004">5</b:PgtType> </b:Page> </xml><![endif]--><style type="text/css"> <!--  /* Font Definitions */ @font-face    {font-family:"Franklin Gothic Demi"\;    mso-font-charset:0\;    mso-generic-font-family:swiss\;    mso-font-pitch:variable\;    panose-1:2 11 7 3 2 1 2 2 2 4\;    mso-font-signature:647 0 0 0 536871071 -539557888\;} @font-face    {font-family:"Arial Narrow"\;    mso-font-charset:0\;    mso-generic-font-family:swiss\;    mso-font-pitch:variable\;    panose-1:2 11 5 6 2 2 2 3 2 4\;    mso-font-signature:647 0 0 0 536871071 -539557888\;} @font-face    {font-family:"Times New Roman"\;    mso-font-charset:0\;    mso-generic-font-family:roman\;    mso-font-pitch:variable\;    panose-1:2 2 6 3 5 4 5 2 3 4\;    mso-font-signature:31367 -2147483648 8 0 1073742335 -65536\;}  /* Style Definitions */ p.MsoNormal\, li.MsoNormal\, div.MsoNormal    {mso-style-parent:""\;    text-indent:0pt\;    margin-left:0pt\;    margin-right:0pt\;    margin-top:0pt\;    margin-bottom:0pt\;    text-align:left\;    font-family:"Times New Roman"\;    mso-default-font-family:"Times New Roman"\;    mso-ascii-font-family:"Times New Roman"\;    mso-latin-font-family:"Times New Roman"\;    mso-greek-font-family:"Times New Roman"\;    mso-cyrillic-font-family:"Times New Roman"\;    mso-armenian-font-family:Sylfaen\;    mso-hebrew-font-family:"Times New Roman"\;    mso-arabic-font-family:"Times New Roman"\;    mso-devanagari-font-family:Mangal\;    mso-bengali-font-family:Vrinda\;    mso-gurmukhi-font-family:Raavi\;    mso-oriya-font-family:Sandnya\;    mso-tamil-font-family:Latha\;    mso-telugu-font-family:Gautami\;    mso-kannada-font-family:Tunga\;    mso-malayalam-font-family:Kartika\;    mso-thai-font-family:"Angsana New"\;    mso-georgian-font-family:Sylfaen\;    mso-hangul-font-family:Batang\;    mso-kana-font-family:"MS Mincho"\;    mso-bopomofo-font-family:PMingLiU\;    mso-han-font-family:SimSun\;    mso-halfwidthkana-font-family:"MS Mincho"\;    mso-syriac-font-family:"Estrangelo Edessa"\;    mso-thaana-font-family:"MV Boli"\;    mso-latinext-font-family:"Times New Roman"\;    font-size:10.0pt\;    color:black\;    mso-font-kerning:14.0pt\;    mso-char-tracking:100%\;    mso-font-width:100%\;} ol    {margin-top:0in\;    margin-bottom:0in\;    margin-left:.25in\;} ul    {margin-top:0in\;    margin-bottom:0in\;    margin-left:.25in\;} @page    {mso-hyphenate:auto\;} --> </style><!--[if gte mso 9]><xml> <o:shapedefaults v:ext="edit" spidmax="3075" fill="f" fillcolor="white [7]" strokecolor="black [0]"> <v:fill color="white [7]" color2="white [7]" on="f" /> <v:stroke color="black [0]" color2="white [7]"> <o:left v:ext="view" color="black [0]" color2="white [7]" /> <o:top v:ext="view" color="black [0]" color2="white [7]" /> <o:right v:ext="view" color="black [0]" color2="white [7]" /> <o:bottom v:ext="view" color="black [0]" color2="white [7]" /> <o:column v:ext="view" color="black [0]" color2="white [7]" /> </v:stroke> <v:shadow color="#ccc [4]" /> <v:textbox inset="2.88pt\,2.88pt\,2.88pt\,2.88pt" /> <o:colormenu v:ext="edit" fillcolor="navy [1]" strokecolor="black [0]" shadowcolor="#ccc [4]" /> </o:shapedefaults><o:shapelayout v:ext="edit"> <o:idmap v:ext="edit" data="1" /> </o:shapelayout></xml><![endif]--></p> <p class="MsoNormal" style="text-align: center"><span style="font-family: &quot\;Franklin Gothic Demi&quot\;\; font-size: 12.5pt">Internationally Recognized Building Scientist: <o:p></o:p></span></p> <p class="MsoNormal" style="text-align: center"><span style="font-family: &quot\;Franklin Gothic Demi&quot\;\; font-size: 36pt">Steve Easley<o:p></o:p></span></p> <p class="MsoNormal" style="text-align: center"><span style="font-family: &quot\;Arial Narrow&quot\;\; color: rgb(69\,69\,69)\; font-size: 14pt\; font-weight: bold"><!--[if !supportEmptyParas]-->&nbsp\;<!--[endif]--><o:p></o:p></span></p> <p class="MsoNormal" style="text-align: center"><span style="font-family: &quot\;Arial Narrow&quot\;\; color: rgb(69\,69\,69)\; font-size: 14pt\; font-weight: bold">Better Design and Building Practices for <o:p></o:p></span></p> <p class="MsoNormal" style="text-align: center"><span style="font-family: &quot\;Arial Narrow&quot\;\; color: rgb(69\,69\,69)\; font-size: 14pt\; font-weight: bold">Reducing Mold\, Water and Moisture Problems</span><span style="font-family: &quot\;Arial Narrow&quot\;\; font-size: 14pt\; font-weight: bold"><br /> </span><span style="font-family: &quot\;Arial Narrow&quot\;\; font-size: 4pt\; font-weight: bold"><br /> </span><span style="font-style: italic\; font-family: &quot\;Arial Narrow&quot\;\; font-size: 14pt\; font-weight: bold"><o:p></o:p></span></p> <p class="MsoNormal" style="text-align: center"><span style="font-style: italic\; font-family: &quot\;Arial Narrow&quot\;\; font-size: 4pt\; font-weight: bold"><!--[if !supportEmptyParas]-->&nbsp\;</span><span style="font-family: &quot\;Arial Narrow&quot\;\; font-size: 12pt\; font-weight: bold">Who Should Attend:<o:p></o:p></span></p> <p class="MsoNormal" style="text-align: center"><span style="color: navy\; font-size: 14pt" />__<span style="color: navy\; font-size: 14pt" /><span style="font-family: &quot\;Arial Narrow&quot\;\; color: navy\; font-size: 14pt">&nbsp\;</span><span style="font-family: &quot\;Arial Narrow&quot\;\; color: rgb(51\,102\,153)\; font-size: 14pt"><span>&nbsp\;</span></span><span style="font-family: &quot\;Arial Narrow&quot\;\; font-size: 12pt">Builders</span><span style="font-family: &quot\;Arial Narrow&quot\;\; font-size: 11pt"><span>&nbsp\;&nbsp\;</span></span><span style="color: navy\; font-size: 14pt">_</span><span style="font-family: &quot\;Arial Narrow&quot\;\; color: navy\; font-size: 14pt">&nbsp\;</span><span style="font-family: &quot\;Arial Narrow&quot\;\; color: rgb(51\,102\,153)\; font-size: 14pt"><span>&nbsp\;</span></span><span style="font-family: &quot\;Arial Narrow&quot\;\; font-size: 12pt">Remodelers</span><span style="font-family: &quot\;Arial Narrow&quot\;\; font-size: 11pt"><span>&nbsp\;&nbsp\;</span></span><span style="color: navy\; font-size: 14pt">_</span><span style="font-family: &quot\;Arial Narrow&quot\;\; color: navy\; font-size: 14pt">&nbsp\;</span><span style="font-family: &quot\;Arial Narrow&quot\;\; color: rgb(51\,102\,153)\; font-size: 14pt"><span>&nbsp\;</span></span><span style="font-family: &quot\;Arial Narrow&quot\;\; font-size: 12pt">Architects</span><span style="font-family: &quot\;Arial Narrow&quot\;\; font-size: 11pt"><span>&nbsp\;__</span></span><span style="font-family: &quot\;Arial Narrow&quot\;\; color: navy\; font-size: 14pt">&nbsp\;</span><span style="font-family: &quot\;Arial Narrow&quot\;\; font-size: 12pt">Contractors<o:p></o:p></span></p> <p class="MsoNormal"><span style="font-family: &quot\;Arial Narrow&quot\;\; font-size: 4pt\; font-weight: bold"><br /> </span><span style="font-family: &quot\;Arial Narrow&quot\;\; font-size: 14pt\; font-weight: bold"><o:p></o:p></span></p> <p class="MsoNormal"><span style="font-family: &quot\;Arial Narrow&quot\;\; font-size: 11pt">Litigation surrounding water and moisture-related problems in <br /> residential construction has risen dramatically in recent years. <o:p></o:p></span></p> <p class="MsoNormal"><span style="font-family: &quot\;Arial Narrow&quot\;\; font-size: 11pt"><!--[if !supportEmptyParas]-->&nbsp\;</span><span style="font-family: &quot\;Arial Narrow&quot\;\; font-size: 11pt">Some experts estimate that as much as 80% of construction defect litigation in the residential construction market segment is due to water and moisture-related failures. <o:p></o:p></span></p> <p class="MsoNormal"><span style="font-family: &quot\;Arial Narrow&quot\;\; font-size: 11pt"><!--[if !supportEmptyParas]-->&nbsp\;</span><span style="font-family: &quot\;Arial Narrow&quot\;\; font-size: 11pt">Using photos gathered from years of field experience\, Steve&nbsp\;examines common design defects which create moisture problems and lead to callbacks. <o:p></o:p></span></p> <p class="MsoNormal"><span style="font-family: &quot\;Arial Narrow&quot\;\; font-size: 11pt"><!--[if !supportEmptyParas]-->&nbsp\;</span><span style="font-family: &quot\;Arial Narrow&quot\;\; font-size: 11pt">We&rsquo\;ll also identify and show common installation errors\, and help your audience learn how to select building materials that lead to a more durable building. </span><span style="font-family: &quot\;Arial Narrow&quot\;\; font-size: 11pt\; font-weight: bold"><o:p></o:p></span></p> <p class="MsoNormal"><span style="font-family: &quot\;Arial Narrow&quot\;\; font-size: 12pt\; font-weight: bold"><!--[if !supportEmptyParas]--></span> <p class="MsoNormal"><span style="font-size: x-small"><!--[if !supportEmptyParas]-->&nbsp\;<span id="1273603045474E" style="display: none">&nbsp\;</span></span><span><!--[endif]--><o:p></o:p></span></p> </p> <p><span id="1273603045385S" style="display: none">&nbsp\;</span><span style="font-size: x-small">&nbsp\;Steve Easley is an internationally recognized construction consultant specializing in solving building science related problems and educating building industry professionals and their trade partners. His work focuses on increasing quality of construction\, sustainability and reducing costly mistakes that lead to construction defects and call backs. Services provided include job site quality analysis\, design review\, educational seminars\, mediation and product consulting. <br /> Steve is nationally known for his cost effective\, practical approaches to building high performance structures and quality assurance. <br /> <br /> Steve's mission is helping industry professionals build structures that are durable\, energy efficient\, healthy and comfortable to live and work in. </span></p> <p><span style="font-size: x-small">He has more than 30 years of industry experience. He has performed thousands of jobsite quality surveys and presented numerous building science seminars to construction professionals around the world with an annual audience of 8-10\,000 industry professionals. He is a frequently requested speaker because of his practical approach to building science\, his dynamic speaking style and his unique ability to explain complex concepts in simple terms that can be integrated into practice. Steve speaks regularly for these and other professional organizations and conferences. <br /> <!--[endif]--></span></p> <o:p></o:p>
LOCATION:114 Haddontowne Court Cherry Hill\, NJ 08034
UID:e.9292.1310
SEQUENCE:3
DTSTAMP:20260421T151941Z
URL:https://members.blsj.com/events/details/steve-easley-seminar-better-design-building-practices-for-reducing-mold-water-moisture-problem-05-18-2010-1310
END:VEVENT

END:VCALENDAR
