BEGIN:VCALENDAR
VERSION:2.0
PRODID:-//ChamberMaster//Event Calendar 2.0//EN
METHOD:PUBLISH
X-PUBLISHED-TTL:P3D
REFRESH-INTERVAL:P3D
CALSCALE:GREGORIAN
BEGIN:VEVENT
DTSTART:20060404T220000Z
DTEND:20060404T220000Z
X-MICROSOFT-CDO-ALLDAYEVENT:FALSE
SUMMARY:Spring Golf Sub-Committee Meeting - 04/04/2006
DESCRIPTION:Help with the planning of the Spring Golf outing at Little Mill Country Club...
X-ALT-DESC;FMTTYPE=text/html:Help with the planning of the Spring Golf outing at Little Mill Country Club...
LOCATION:Builders League Office Cherry Hill\, NJ 08034
UID:e.9292.1585
SEQUENCE:3
DTSTAMP:20260421T151942Z
URL:https://members.blsj.com/events/details/spring-golf-sub-committee-meeting-04-04-2006-04-04-2006-1585
END:VEVENT

END:VCALENDAR
