BEGIN:VCALENDAR
VERSION:2.0
PRODID:-//ChamberMaster//Event Calendar 2.0//EN
METHOD:PUBLISH
X-PUBLISHED-TTL:P3D
REFRESH-INTERVAL:P3D
CALSCALE:GREGORIAN
BEGIN:VEVENT
DTSTART:20070403T160000Z
DTEND:20070403T220000Z
X-MICROSOFT-CDO-ALLDAYEVENT:FALSE
SUMMARY:Spring Golf Sub-Committee Meeting - 04/03/2007
DESCRIPTION:If you are interested in volunteering for the Spring Golf Outing\, please join us for a brief meeting directly following  the Associates Committee Meeting on April 3rd
X-ALT-DESC;FMTTYPE=text/html:<p>If you are interested in volunteering for the Spring Golf Outing\, please join us for a brief meeting directly following&nbsp\; the Associates Committee Meeting on April 3rd</p>
LOCATION:\, NJ
UID:e.9292.1583
SEQUENCE:3
DTSTAMP:20260422T074943Z
URL:https://members.blsj.com/events/details/spring-golf-sub-committee-meeting-04-03-2007-04-03-2007-1583
END:VEVENT

END:VCALENDAR
