BEGIN:VCALENDAR
VERSION:2.0
PRODID:-//ChamberMaster//Event Calendar 2.0//EN
METHOD:PUBLISH
X-PUBLISHED-TTL:P3D
REFRESH-INTERVAL:P3D
CALSCALE:GREGORIAN
BEGIN:VEVENT
DTSTART:20060501T220000Z
DTEND:20060501T160000Z
X-MICROSOFT-CDO-ALLDAYEVENT:FALSE
SUMMARY:SPRING GOLF OUTING - LITTLE MILL COUNTRY CLUB -SCHEDULE OF EVENTS
DESCRIPTION:Schedule of Events  11:00 a.m.   Registration & BBQ Lunch Buffet  12:30 p.m.     Shotgun - Modified Scramble Format Start        5:30 p.m. - 8:30 p.m.   Open Bar\, Hors D'Ouerves\, Seafood Raw Bar\,      Carving Stations\, Pasta Stations\, Dessert  7:30 p.m.       Awards Presentation & Chinese Auction  Open Bar\, Dinner  - Only $95 per person  GOLF SOLD OUT
X-ALT-DESC;FMTTYPE=text/html:Schedule of Events  11:00 a.m.   Registration & BBQ Lunch Buffet  12:30 p.m.     Shotgun - Modified Scramble Format Start        5:30 p.m. - 8:30 p.m.   Open Bar\, Hors D'Ouerves\, Seafood Raw Bar\,      Carving Stations\, Pasta Stations\, Dessert  7:30 p.m.       Awards Presentation & Chinese Auction  Open Bar\, Dinner  - Only $95 per person  GOLF SOLD OUT
LOCATION:104 Bortons Road Marlton\, NJ 08053
UID:e.9292.1462
SEQUENCE:3
DTSTAMP:20260421T170257Z
URL:https://members.blsj.com/events/details/spring-golf-outing-little-mill-country-club-schedule-of-events-05-01-2006-1462
END:VEVENT

END:VCALENDAR
