BEGIN:VCALENDAR
VERSION:2.0
PRODID:-//ChamberMaster//Event Calendar 2.0//EN
METHOD:PUBLISH
X-PUBLISHED-TTL:P3D
REFRESH-INTERVAL:P3D
CALSCALE:GREGORIAN
BEGIN:VEVENT
DTSTART:20070110T230000Z
DTEND:20070110T230000Z
X-MICROSOFT-CDO-ALLDAYEVENT:FALSE
SUMMARY:Speed Networking Sub-Committee Meeting
DESCRIPTION:
X-ALT-DESC;FMTTYPE=text/html:
LOCATION:\, NJ
UID:e.9292.741
SEQUENCE:3
DTSTAMP:20260422T035705Z
URL:https://members.blsj.com/events/details/speed-networking-sub-committee-meeting-01-10-2007-741
END:VEVENT

END:VCALENDAR
