BEGIN:VCALENDAR
VERSION:2.0
PRODID:-//ChamberMaster//Event Calendar 2.0//EN
METHOD:PUBLISH
X-PUBLISHED-TTL:P3D
REFRESH-INTERVAL:P3D
CALSCALE:GREGORIAN
BEGIN:VEVENT
DTSTART:20100407T220000Z
DTEND:20100407T160000Z
X-MICROSOFT-CDO-ALLDAYEVENT:FALSE
SUMMARY:SOCIAL MEDIA FOR HOME BUILDING PROFESSIONALS & SMC Meeting
DESCRIPTION:MEMO TO: Sales & Marketing Council FROM: Pamela Perini\, President SUBJECT: SMC Board of Directors Meeting & Social Media Workshop DATE: Wednesday \,April 7\, 2010 TIME: 8:30 a.m. PLACE: League Office Agenda:    \n  COST: FREE\n \n SPEAKERS: Susan Collins\, Collins Consulting Group & Mary Danielsen\, BLSJ Director of Communications\n \n       Normal 0   false false false        MicrosoftInternetExplorer4       st1\\:*{behavior:url(#ieooui) }      /* Style Definitions */ table.MsoNormalTable {mso-style-name:"Table Normal"\; mso-tstyle-rowband-size:0\; mso-tstyle-colband-size:0\; mso-style-noshow:yes\; mso-style-parent:""\; mso-padding-alt:0in 5.4pt 0in 5.4pt\; mso-para-margin:0in\; mso-para-margin-bottom:.0001pt\; mso-pagination:widow-orphan\; font-size:10.0pt\; font-family:"Times New Roman"\; mso-ansi-language:#0400\; mso-fareast-language:#0400\; mso-bidi-language:#0400\;}        SOCIAL MEDIA FOR HOME BUILDING PROFESSIONALS \n Builders League of South Jersey \n April 7\, 2010 \n Social Media for Business \n   What is it \n The Business Case for engaging in social media \n   What do people do when they want to learn about something \n   The Changing conversation \n   Volumes of social media sites \n   Social Media campaigns tied directly to corporate websites \n Understanding what can do for you \n   Grow your business \n   Boost sales \n   Raise brand awareness \n   Allow you to connect with current customers\, repeat customers\, potential \n customers \n   Manage customer service \n   Address crisis management \n   Have the potential to deliver significant results \n The Pushback to Adaption \n   Understanding social media: personally or professionally \n   Being afraid of it \n   Being hesitant to make mistakes \n   Don't have time for it \n   Don't believe in it. \n   Don't have time to invest in understanding it. \n GETTING STARTED \n What to do before you begin developing your social media marketing strategy. \n Taking the business approach \n   Research for knowledge and understanding \n   Research different social media outlets (platforms and company websites) \n   Group pages \n   Finding your audience online \n   What are your options \n   Finding your comfort level \n   Learning to communicate online \n   Reviewing the messaging of other campaigns\; develop your voice \n   Reference sites and example \n   Assessing costs associated with social media \n   Considering the investment of time \n   Measurement options \n Homework \n   To do List \n   Campaigns to watch \n   Outlines \n   ___ Yes\, I will attend Name: __________________________________________________________________ Company: ________________________________________________________________
X-ALT-DESC;FMTTYPE=text/html:<p>MEMO TO: Sales &amp\; Marketing Council</p> <p>FROM: Pamela Perini\, President</p> <p>SUBJECT: SMC Board of Directors Meeting &amp\; Social Media Workshop</p> <p><span style="font-size: x-small\;"><strong><span style="color: rgb(255\, 0\, 0)\;">DATE: Wednesday \,April 7\,&nbsp\;2010</span></strong></span></p> <p>TIME: 8:30 a.m.</p> <p>PLACE: League Office</p> <p>Agenda:&nbsp\;&nbsp\;&nbsp\;&nbsp\;<span style="color: rgb(255\, 0\, 0)\;" /><br /> <span style="font-size: x-small\;"><span style="color: rgb(255\, 0\, 0)\;" /></span><span style="color: rgb(255\, 0\, 0)\;" /></p> <p>COST: FREE<br /> <br /> SPEAKERS: Susan Collins\, Collins Consulting Group &amp\; Mary Danielsen\, BLSJ Director of Communications<br /> <br /> <meta http-equiv="Content-Type" content="text/html\; charset=utf-8"> <meta name="ProgId" content="Word.Document"> <meta name="Generator" content="Microsoft Word 11"> <meta name="Originator" content="Microsoft Word 11"> <link href="file:///C:\\DOCUME~1\\Marlene\\LOCALS~1\\Temp\\msohtml1\\01\\clip_filelist.xml" rel="File-List" /><o:smarttagtype namespaceuri="urn:schemas-microsoft-com:office:smarttags" name="country-region"></o:smarttagtype><o:smarttagtype namespaceuri="urn:schemas-microsoft-com:office:smarttags" name="place" downloadurl="http://www.5iantlavalamp.com/"></o:smarttagtype><!--[if gte mso 9]><xml> <w:WordDocument> <w:View>Normal</w:View> <w:Zoom>0</w:Zoom> <w:PunctuationKerning /> <w:ValidateAgainstSchemas /> <w:SaveIfXMLInvalid>false</w:SaveIfXMLInvalid> <w:IgnoreMixedContent>false</w:IgnoreMixedContent> <w:AlwaysShowPlaceholderText>false</w:AlwaysShowPlaceholderText> <w:Compatibility> <w:BreakWrappedTables /> <w:SnapToGridInCell /> <w:WrapTextWithPunct /> <w:UseAsianBreakRules /> <w:DontGrowAutofit /> </w:Compatibility> <w:BrowserLevel>MicrosoftInternetExplorer4</w:BrowserLevel> </w:WordDocument> </xml><![endif]--><!--[if gte mso 9]><xml> <w:LatentStyles DefLockedState="false" LatentStyleCount="156"> </w:LatentStyles> </xml><![endif]--><!--[if !mso]><object classid="clsid:38481807-CA0E-42D2-BF39-B33AF135CC4D" id=ieooui></object> <style> st1\\:*{behavior:url(#ieooui) } </style> <![endif]--><style type="text/css"> <!--  /* Font Definitions */  @font-face    {font-family:Tahoma\;    panose-1:2 11 6 4 3 5 4 4 2 4\;    mso-font-charset:0\;    mso-generic-font-family:swiss\;    mso-font-pitch:variable\;    mso-font-signature:1627421319 -2147483648 8 0 66047 0\;} @font-face    {font-family:"Trebuchet MS"\;    panose-1:2 11 6 3 2 2 2 2 2 4\;    mso-font-charset:0\;    mso-generic-font-family:swiss\;    mso-font-pitch:variable\;    mso-font-signature:647 0 0 0 159 0\;} @font-face    {font-family:Ezzo-Medium\;    panose-1:0 0 0 0 0 0 0 0 0 0\;    mso-font-charset:0\;    mso-generic-font-family:auto\;    mso-font-format:other\;    mso-font-pitch:auto\;    mso-font-signature:3 0 0 0 1 0\;} @font-face    {font-family:Ezzo-LightAtl\;    panose-1:0 0 0 0 0 0 0 0 0 0\;    mso-font-charset:0\;    mso-generic-font-family:auto\;    mso-font-format:other\;    mso-font-pitch:auto\;    mso-font-signature:3 0 0 0 1 0\;}  /* Style Definitions */  p.MsoNormal\, li.MsoNormal\, div.MsoNormal    {mso-style-parent:""\;    margin:0in\;    margin-bottom:.0001pt\;    mso-pagination:widow-orphan\;    font-size:12.0pt\;    font-family:"Times New Roman"\;    mso-fareast-font-family:"Times New Roman"\;} @page Section1    {size:8.5in 11.0in\;    margin:1.0in 1.25in 1.0in 1.25in\;    mso-header-margin:.5in\;    mso-footer-margin:.5in\;    mso-paper-source:0\;} div.Section1    {page:Section1\;} --> </style><!--[if gte mso 10]> <style> /* Style Definitions */ table.MsoNormalTable {mso-style-name:"Table Normal"\; mso-tstyle-rowband-size:0\; mso-tstyle-colband-size:0\; mso-style-noshow:yes\; mso-style-parent:""\; mso-padding-alt:0in 5.4pt 0in 5.4pt\; mso-para-margin:0in\; mso-para-margin-bottom:.0001pt\; mso-pagination:widow-orphan\; font-size:10.0pt\; font-family:"Times New Roman"\; mso-ansi-language:#0400\; mso-fareast-language:#0400\; mso-bidi-language:#0400\;} </style> <![endif]--> </meta> </meta> </meta> </meta> </p> <p>SOCIAL MEDIA FOR HOME BUILDING PROFESSIONALS</p> <br /> <p>Builders League of South Jersey</p> <br /> <p>April 7\, 2010</p> <br /> <p><strong>Social Media for Business</strong></p> <br /> <p>&bull\; What is it</p> <br /> <p><strong>The Business Case for engaging in social media</strong></p> <br /> <p>&bull\; What do people do when they want to learn about something</p> <br /> <p>&bull\; The Changing conversation</p> <br /> <p>&bull\; Volumes of social media sites</p> <br /> <p>&bull\; Social Media campaigns tied directly to corporate websites</p> <br /> <p><strong>Understanding what can do for you</strong></p> <br /> <p>&bull\; Grow your business</p> <br /> <p>&bull\; Boost sales</p> <br /> <p>&bull\; Raise brand awareness</p> <br /> <p>&bull\; Allow you to connect with current customers\, repeat customers\, potential</p> <br /> <p>customers</p> <br /> <p>&bull\; Manage customer service</p> <br /> <p>&bull\; Address crisis management</p> <br /> <p>&bull\; Have the potential to deliver significant results</p> <br /> <p><strong>The Pushback to Adaption</strong></p> <br /> <p>&bull\; Understanding social media: personally or professionally</p> <br /> <p>&bull\; Being afraid of it</p> <br /> <p>&bull\; Being hesitant to make mistakes</p> <br /> <p>&bull\; Don&rsquo\;t have time for it</p> <br /> <p>&bull\; Don&rsquo\;t believe in it.</p> <br /> <p>&bull\; Don&rsquo\;t have time to invest in understanding it.</p> <br /> <p><strong>GETTING STARTED</strong></p> <br /> <p>What to do before you begin developing your social media marketing strategy.</p> <br /> <p>Taking the business approach</p> <br /> <p>&bull\; Research for knowledge and understanding</p> <br /> <p>&bull\; Research different social media outlets (platforms and company websites)</p> <br /> <p>&bull\; Group pages</p> <br /> <p>&bull\; Finding your audience online</p> <br /> <p>&bull\; What are your options</p> <br /> <p>&bull\; Finding your comfort level</p> <br /> <p>&bull\; Learning to communicate online</p> <br /> <p>&bull\; Reviewing the messaging of other campaigns\; develop your voice</p> <br /> <p>&bull\; Reference sites and example</p> <br /> <p>&bull\; Assessing costs associated with social media</p> <br /> <p>&bull\; Considering the investment of time</p> <br /> <p>&bull\; Measurement options</p> <br /> <p><strong>Homework</strong></p> <br /> <p>&bull\; To do List</p> <br /> <p>&bull\; Campaigns to watch</p> <br /> <p>&bull\; Outlines</p> <br /> <p>&nbsp\;</p> <p><span style="font-size: small\;"><strong>___ Yes\, I will attend</strong></span></p> <p>Name: __________________________________________________________________</p> <p>Company: ________________________________________________________________</p> <p>&nbsp\;</p> <p>&nbsp\;</p>
LOCATION:114 Haddontowne Court Cherry Hill\, NJ 08034
UID:e.9292.738
SEQUENCE:3
DTSTAMP:20260421T170240Z
URL:https://members.blsj.com/events/details/social-media-for-home-building-professionals-smc-meeting-04-07-2010-738
END:VEVENT

END:VCALENDAR
