BEGIN:VCALENDAR
VERSION:2.0
PRODID:-//ChamberMaster//Event Calendar 2.0//EN
METHOD:PUBLISH
X-PUBLISHED-TTL:P3D
REFRESH-INTERVAL:P3D
CALSCALE:GREGORIAN
BEGIN:VEVENT
DTSTART:20050518T220000Z
DTEND:20050518T160000Z
X-MICROSOFT-CDO-ALLDAYEVENT:FALSE
SUMMARY:SMC Seminar: Selling Septics - Propane - Natural Gas & Oil Heat
DESCRIPTION:
X-ALT-DESC;FMTTYPE=text/html:
LOCATION:Builders League of South Jersey 114 Haddontowne Ct Cherry Hill\, NJ 08034
UID:e.9292.737
SEQUENCE:3
DTSTAMP:20260421T005251Z
URL:https://members.blsj.com/events/details/smc-seminar-selling-septics-propane-natural-gas-oil-heat-05-18-2005-737
END:VEVENT

END:VCALENDAR
