BEGIN:VCALENDAR
VERSION:2.0
PRODID:-//ChamberMaster//Event Calendar 2.0//EN
METHOD:PUBLISH
X-PUBLISHED-TTL:P3D
REFRESH-INTERVAL:P3D
CALSCALE:GREGORIAN
BEGIN:VEVENT
DTSTART:20100311T170000Z
DTEND:20100311T170000Z
X-MICROSOFT-CDO-ALLDAYEVENT:FALSE
SUMMARY:SMC Seminar: RESPA Laws\, FHA Guideline/Qualification Changes & New HUD 1 Statement
DESCRIPTION:MEMO TO: Sales & Marketing Council FROM: Pamela Perini\, President SUBJECT: SMC Board of Directors Meeting & Appraisal Seminar DATE: THURSDAY\,MARCH 11\, 2010 TIME: 9:00 a.m. PLACE: League Office Agenda:    \n \n Learn About the New Respa Laws \n Including FHA Guideline/Qualification Changes\n Comprehensive Overview of the "New" HUD 1 Statement COST: FREE\n SPEAKERS: Richard Croft\, Title America & Bill Gelernt\, Oak Mortgage\n \n You are cordially invited to join us for the monthly SMC Meeting directly following the Appraisal Seminar.\n  \n 1. BLSJ Conflict of Interest Statement \n 2. Adoption of December 2\, 2009 Minutes \n 3. Introductions \n 4. 2010 SMC Seminars Schedule Completed\n 5. Builder/Realtor Expo.\n 6. "where will we be after tax credit expires in April"\n 7. $15\,000 tax credit from NJ???? - \n 8. SMC Mixer   Date/Venue\n 9. Old Business   \n a. "Buy New   It's Time" Campaign ?\n b. Review of Builder Surveys\n 10. Next SMC - April 7th\n 11. Adjournment ___ Yes\, I will attend Name: __________________________________________________________________ Company: ________________________________________________________________
X-ALT-DESC;FMTTYPE=text/html:<p>MEMO TO: Sales &amp\; Marketing Council</p> <p>FROM: Pamela Perini\, President</p> <p>SUBJECT: SMC Board of Directors Meeting &amp\; Appraisal Seminar</p> <p><span style="font-size: x-small"><strong><span style="color: #ff0000">DATE:&nbsp\;THURSDAY\,MARCH 11\,&nbsp\;2010</span></strong></span></p> <p>TIME: 9:00 a.m.</p> <p>PLACE: League Office</p> <p>Agenda:&nbsp\;&nbsp\;&nbsp\;&nbsp\;<span style="color: #ff0000" /><br /> <br /> <span style="font-size: x-small"><span style="color: #ff0000"><strong>Learn About the New Respa Laws <br /> Including FHA Guideline/Qualification Changes<br /> Comprehensive Overview of the &ldquo\;New&rdquo\; HUD 1 Statement</strong></span></span><span style="color: #ff0000" /></p> <p>COST: FREE<br /> SPEAKERS: Richard Croft\, Title America &amp\; Bill Gelernt\, Oak Mortgage<br /> <br /> You are cordially invited to join us for the monthly&nbsp\;SMC Meeting directly following the Appraisal Seminar.<br /> &nbsp\;<br /> 1. BLSJ Conflict of Interest Statement <br /> 2. Adoption of December 2\, 2009 Minutes <br /> 3. Introductions <br /> 4. 2010 SMC Seminars Schedule Completed<br /> 5. Builder/Realtor Expo.<br /> 6. &quot\;where will we be after tax credit expires in April&quot\;<br /> 7. $15\,000 tax credit from NJ???? - <br /> 8. SMC Mixer &ndash\; Date/Venue<br /> 9. Old Business &ndash\; <br /> a. &ldquo\;Buy New &ndash\; It&rsquo\;s Time&rdquo\; Campaign ?<br /> b. Review of Builder Surveys<br /> 10. Next SMC - April 7th<br /> 11. Adjournment</p> <p>___ Yes\, I will attend</p> <p>Name: __________________________________________________________________</p> <p>Company: ________________________________________________________________</p> <p>&nbsp\;</p> <p>&nbsp\;</p>
LOCATION:114 Haddontowne Court Cherry Hill\, NJ 08034
UID:e.9292.1501
SEQUENCE:3
DTSTAMP:20260421T194141Z
URL:https://members.blsj.com/events/details/smc-seminar-respa-laws-fha-guideline-qualification-changes-new-hud-1-statement-03-11-2010-1501
END:VEVENT

END:VCALENDAR
