BEGIN:VCALENDAR
VERSION:2.0
PRODID:-//ChamberMaster//Event Calendar 2.0//EN
METHOD:PUBLISH
X-PUBLISHED-TTL:P3D
REFRESH-INTERVAL:P3D
CALSCALE:GREGORIAN
BEGIN:VEVENT
DTSTART:20050602T220000Z
DTEND:20050602T160000Z
X-MICROSOFT-CDO-ALLDAYEVENT:FALSE
SUMMARY:SMC Seminar: Corporate Etiquette & Business Attire - Dressing for
DESCRIPTION:Speaker: Sandy Spadaro Director of Marketing & Systems Development Fidelity National Title Insurance Company-Congress Title Division  Topics Overview  Mutual Respect Time Management Verbal Communications Leade Assertiveness Negotiating Practices Critical Decision-Making Conflict Resolution Body Language Gender Diversity Cultural Diversity        Presentation Attire Cleanliness
X-ALT-DESC;FMTTYPE=text/html:Speaker: Sandy Spadaro Director of Marketing & Systems Development Fidelity National Title Insurance Company-Congress Title Division  Topics Overview  Mutual Respect Time Management Verbal Communications Leade Assertiveness Negotiating Practices Critical Decision-Making Conflict Resolution Body Language Gender Diversity Cultural Diversity        Presentation Attire Cleanliness                                                                
LOCATION:Builders League of South Jersey 114 Haddontowne Ct Cherry Hill\, NJ 08034
UID:e.9292.1460
SEQUENCE:3
DTSTAMP:20260421T020508Z
URL:https://members.blsj.com/events/details/smc-seminar-corporate-etiquette-business-attire-dressing-for-06-02-2005-1460
END:VEVENT

END:VCALENDAR
