BEGIN:VCALENDAR
VERSION:2.0
PRODID:-//ChamberMaster//Event Calendar 2.0//EN
METHOD:PUBLISH
X-PUBLISHED-TTL:P3D
REFRESH-INTERVAL:P3D
CALSCALE:GREGORIAN
BEGIN:VEVENT
DTSTART:20060913T160000Z
DTEND:20060913T160000Z
X-MICROSOFT-CDO-ALLDAYEVENT:FALSE
SUMMARY:Smart Growth Committee Meeting - 09/13/2006
DESCRIPTION:
X-ALT-DESC;FMTTYPE=text/html:
LOCATION:BLSJ Cherry Hill\, NJ 08034
UID:e.9292.1457
SEQUENCE:3
DTSTAMP:20260421T223449Z
URL:https://members.blsj.com/events/details/smart-growth-committee-meeting-09-13-2006-09-13-2006-1457
END:VEVENT

END:VCALENDAR
