BEGIN:VCALENDAR
VERSION:2.0
PRODID:-//ChamberMaster//Event Calendar 2.0//EN
METHOD:PUBLISH
X-PUBLISHED-TTL:P3D
REFRESH-INTERVAL:P3D
CALSCALE:GREGORIAN
BEGIN:VEVENT
DTSTART:20060228T170000Z
DTEND:20060228T170000Z
X-MICROSOFT-CDO-ALLDAYEVENT:FALSE
SUMMARY:Smart Growth Committee Meeting - 02/28/2006
DESCRIPTION:
X-ALT-DESC;FMTTYPE=text/html:
LOCATION:BLSJ Cherry Hill\, NJ 08034
UID:e.9292.1576
SEQUENCE:3
DTSTAMP:20260421T123043Z
URL:https://members.blsj.com/events/details/smart-growth-committee-meeting-02-28-2006-02-28-2006-1576
END:VEVENT

END:VCALENDAR
