BEGIN:VCALENDAR
VERSION:2.0
PRODID:-//ChamberMaster//Event Calendar 2.0//EN
METHOD:PUBLISH
X-PUBLISHED-TTL:P3D
REFRESH-INTERVAL:P3D
CALSCALE:GREGORIAN
BEGIN:VEVENT
DTSTART:20051129T170000Z
DTEND:20051129T170000Z
X-MICROSOFT-CDO-ALLDAYEVENT:FALSE
SUMMARY:SJBPAC Meeting - 11/29/2005
DESCRIPTION:
X-ALT-DESC;FMTTYPE=text/html:
LOCATION:BLSJ Cherry Hill\, NJ 08034
UID:e.9292.713
SEQUENCE:3
DTSTAMP:20260421T083605Z
URL:https://members.blsj.com/events/details/sjbpac-meeting-11-29-2005-11-29-2005-713
END:VEVENT

END:VCALENDAR
