BEGIN:VCALENDAR
VERSION:2.0
PRODID:-//ChamberMaster//Event Calendar 2.0//EN
METHOD:PUBLISH
X-PUBLISHED-TTL:P3D
REFRESH-INTERVAL:P3D
CALSCALE:GREGORIAN
BEGIN:VEVENT
DTSTART:20100317T160000Z
DTEND:20100317T160000Z
X-MICROSOFT-CDO-ALLDAYEVENT:FALSE
SUMMARY:SJBPAC Meeting - 03/17/2010
DESCRIPTION:
X-ALT-DESC;FMTTYPE=text/html:
LOCATION:White Horse Pike Berlin\, NJ 08009
UID:e.9292.1266
SEQUENCE:3
DTSTAMP:20260421T181748Z
URL:https://members.blsj.com/events/details/sjbpac-meeting-03-17-2010-03-17-2010-1266
END:VEVENT

END:VCALENDAR
