BEGIN:VCALENDAR
VERSION:2.0
PRODID:-//ChamberMaster//Event Calendar 2.0//EN
METHOD:PUBLISH
X-PUBLISHED-TTL:P3D
REFRESH-INTERVAL:P3D
CALSCALE:GREGORIAN
BEGIN:VEVENT
DTSTART:20050316T170000Z
DTEND:20050316T170000Z
X-MICROSOFT-CDO-ALLDAYEVENT:FALSE
SUMMARY:SJBPAC Meeting - 03/16/2005
DESCRIPTION:
X-ALT-DESC;FMTTYPE=text/html:
LOCATION:Regency Palace Fellowship Road Mt Laurel\, NJ 08054
UID:e.9292.1245
SEQUENCE:3
DTSTAMP:20260420T221749Z
URL:https://members.blsj.com/events/details/sjbpac-meeting-03-16-2005-03-16-2005-1245
END:VEVENT

END:VCALENDAR
