BEGIN:VCALENDAR
VERSION:2.0
PRODID:-//ChamberMaster//Event Calendar 2.0//EN
METHOD:PUBLISH
X-PUBLISHED-TTL:P3D
REFRESH-INTERVAL:P3D
CALSCALE:GREGORIAN
BEGIN:VEVENT
DTSTART:20040908T160000Z
DTEND:20040908T160000Z
X-MICROSOFT-CDO-ALLDAYEVENT:FALSE
SUMMARY:SJ Builders Political Action Committee Meeting
DESCRIPTION:
X-ALT-DESC;FMTTYPE=text/html:
LOCATION:Regency Palace Fellowship Road & Route 73 Mt. Laurel\, NJ 08054
UID:e.9292.1568
SEQUENCE:3
DTSTAMP:20260420T152035Z
URL:https://members.blsj.com/events/details/sj-builders-political-action-committee-meeting-09-08-2004-1568
END:VEVENT

END:VCALENDAR
