BEGIN:VCALENDAR
VERSION:2.0
PRODID:-//ChamberMaster//Event Calendar 2.0//EN
METHOD:PUBLISH
X-PUBLISHED-TTL:P3D
REFRESH-INTERVAL:P3D
CALSCALE:GREGORIAN
BEGIN:VEVENT
DTSTART:20050506T220000Z
DTEND:20050506T160000Z
X-MICROSOFT-CDO-ALLDAYEVENT:FALSE
SUMMARY:SEXUAL HARASSMENT-Compliance Requirements for All NJ Employers
DESCRIPTION:Presented By:                             Esther H. Nevarez Certified Trainer\, NJ Department of Law & Public Safety                             Division of Civil Rights  Protect Yourself & Your Company from Multi-Million Dollar Lawsuits!  During the last few years there has been a steady stream of lawsuits finding NJ employers liable for sexual harassment based on a lack of an effective anti-harassment policy or failure to conduct a prompt & thorough investigation of alleged misconduct This is a MUST-ATTEND seminar defining recent NJ Supreme Court mandated changes & current requirements for harassment training & compliance in your organization. The court said NJ employers must train managers & supervisors and must make training available to other employees if they want to avoid liability. This class meets all the compliance regulations mandated by the Supreme Court.
X-ALT-DESC;FMTTYPE=text/html:Presented By:                             Esther H. Nevarez Certified Trainer\, NJ Department of Law & Public Safety                             Division of Civil Rights  Protect Yourself & Your Company from Multi-Million Dollar Lawsuits!  During the last few years there has been a steady stream of lawsuits finding NJ employers liable for sexual harassment based on a lack of an effective anti-harassment policy or failure to conduct a prompt & thorough investigation of alleged misconduct This is a MUST-ATTEND seminar defining recent NJ Supreme Court mandated changes & current requirements for harassment training & compliance in your organization. The court said NJ employers must train managers & supervisors and must make training available to other employees if they want to avoid liability. This class meets all the compliance regulations mandated by the Supreme Court.   
LOCATION:Builders League Cherry Hill\, NJ 08034
UID:e.9292.709
SEQUENCE:3
DTSTAMP:20260421T005009Z
URL:https://members.blsj.com/events/details/sexual-harassment-compliance-requirements-for-all-nj-employers-05-06-2005-709
END:VEVENT

END:VCALENDAR
