BEGIN:VCALENDAR
VERSION:2.0
PRODID:-//ChamberMaster//Event Calendar 2.0//EN
METHOD:PUBLISH
X-PUBLISHED-TTL:P3D
REFRESH-INTERVAL:P3D
CALSCALE:GREGORIAN
BEGIN:VEVENT
DTSTART:20060920T160000Z
DTEND:20060920T160000Z
X-MICROSOFT-CDO-ALLDAYEVENT:FALSE
SUMMARY:SEPT. MTG AT THE FOUNDATION ROOM AT THE HOUSE OF BLUES
DESCRIPTION:GOT THE END OF SUMMER BLUES? \n JOIN US AT THE EXCLUSIVE FOUNDATION ROOM \n AT THE HOUSE OF BLUES \n FOR AN INFORMAL EVENING OF SOCIALIZING\, SCHMOOZING & GOOD FOOD \n \n At the Foundation Room House of Blues 801 Boardwalk On the Boardwalk at Showboat \n DATE: Wednesday\, September 20\, 2006 \n TIME: 6:00 p.m. - 9:00 p.m. (2 hour open bar from 6:00 pm to 8:00 pm) \n ~ Menu Selection ~ \n Oven Roasted Turkey Breast w/Dijon glaze \n Sliced BBQ Brisket Sauteed Salmon in Lemon Chive Butter \n Sauteed Vegetables \n House of Blues Salad \n Coffee & Dessert \n COST: $50. per person in advance $65. per person at the door/walk-ins \n MANY THANKS TO OUR FOUNDATION ROOM SPONSORS \n MARK D'AGOSTINO ~ CONGRESS TITLE \n and \n COUNTRYWIDE HOME LOANS
X-ALT-DESC;FMTTYPE=text/html:<p align="center"><font color="#ff0000"><strong>GOT THE END OF SUMMER BLUES?&nbsp\;<br /> JOIN US AT THE EXCLUSIVE FOUNDATION ROOM&nbsp\;<br /> AT THE HOUSE OF BLUES&nbsp\;<br /> FOR AN INFORMAL EVENING OF SOCIALIZING\, SCHMOOZING &amp\; GOOD FOOD&nbsp\;<br /> </strong></font><br /> <font color="#ff0000"><strong><em><u><font style="FONT-SIZE: 14px"><font color="#ff0000"><strong><em><u>At the Foundation Room House of Blues 801 Boardwalk On the Boardwalk at Showboat</u></em></strong></font>&nbsp\;</font></u></em></strong></font><br /> <strong>DATE:</strong> Wednesday\, September 20\, 2006&nbsp\;<br /> <strong>TIME:</strong> 6:00 p.m. - 9:00 p.m. (2 hour open bar from 6:00 pm to 8:00 pm)&nbsp\;<br /> <strong>~ Menu Selection ~&nbsp\;<br /> </strong>Oven Roasted Turkey Breast w/Dijon glaze&nbsp\;<br /> Sliced BBQ Brisket Sauteed Salmon in Lemon Chive Butter&nbsp\;<br /> Sauteed Vegetables&nbsp\;<br /> House of Blues Salad&nbsp\;<br /> Coffee &amp\; Dessert&nbsp\;<br /> <strong>COST:</strong> $50. per person in advance $65. per person at the door/walk-ins&nbsp\;<br /> <strong>MANY THANKS TO OUR FOUNDATION ROOM SPONSORS&nbsp\;<br /> MARK D&rsquo\;AGOSTINO ~ CONGRESS TITLE&nbsp\;<br /> and&nbsp\;<br /> COUNTRYWIDE HOME LOANS</strong> </p>
LOCATION:Foundation Room-House of Blues At the Showboat 801 Boardwalk\, NJ 00000
UID:e.9292.708
SEQUENCE:3
DTSTAMP:20260421T223757Z
URL:https://members.blsj.com/events/details/sept-mtg-at-the-foundation-room-at-the-house-of-blues-09-20-2006-708
END:VEVENT

END:VCALENDAR
