BEGIN:VCALENDAR
VERSION:2.0
PRODID:-//ChamberMaster//Event Calendar 2.0//EN
METHOD:PUBLISH
X-PUBLISHED-TTL:P3D
REFRESH-INTERVAL:P3D
CALSCALE:GREGORIAN
BEGIN:VEVENT
DTSTART:20060519T220000Z
DTEND:20060519T160000Z
X-MICROSOFT-CDO-ALLDAYEVENT:FALSE
SUMMARY:Seminar: "Women in the Building Industry"
DESCRIPTION:Issues Facing Building Women: family businesses vs. starting form scratch. balancing work & family-technology use & knowledge growth-prohibitive legislation. Myths & Facts about our Male Industry Peers Realistic Differences of the Female Skillsets. Are we our own worst enemy?  Role Models vs. Competitors. The "Do" vs. Never Do" Lists.  Creating advantage thru your associations advice from our own Femal Leaders.
X-ALT-DESC;FMTTYPE=text/html:Issues Facing Building Women: family businesses vs. starting form scratch. balancing work & family-technology use & knowledge growth-prohibitive legislation. Myths & Facts about our Male Industry Peers Realistic Differences of the Female Skillsets. Are we our own worst enemy?  Role Models vs. Competitors. The "Do" vs. Never Do" Lists.  Creating advantage thru your associations advice from our own Femal Leaders.
LOCATION:\, NJ
UID:e.9292.1448
SEQUENCE:3
DTSTAMP:20260421T170123Z
URL:https://members.blsj.com/events/details/seminar-women-in-the-building-industry-05-19-2006-1448
END:VEVENT

END:VCALENDAR
