BEGIN:VCALENDAR
VERSION:2.0
PRODID:-//ChamberMaster//Event Calendar 2.0//EN
METHOD:PUBLISH
X-PUBLISHED-TTL:P3D
REFRESH-INTERVAL:P3D
CALSCALE:GREGORIAN
BEGIN:VEVENT
DTSTART:20070607T220000Z
DTEND:20070607T220000Z
X-MICROSOFT-CDO-ALLDAYEVENT:FALSE
SUMMARY:Seminar: Which Wireless Vehicle Mgmt. Solution is Right for My Co
DESCRIPTION:Which Wireless Vehicle Management Solution  is Right for My Company?    Forty-five thousand companies invested $1.2 billion on GPS-based solutions last year. According to a leading market research firm\, C.J. Driscoll & Associates\, GPS is no longer a nice to have\, "it's a must have".  However\, evaluating all of today's options can be very time consuming and somewhat overwhelming\, especially when added to your daily workload\, which of course\, continues to grow. Mobile Management Resources (MMR) thoroughly understands the broad range of options available in the field of wireless vehicle management. Steve Johnson\, VP Business Development\, will share some key questions that you should consider in selecting your optimal fleet management solution. Also\, a demonstration of a leading vehicle management solution will be presented.    Presented by: Steve Johnson\, Vice President Business Development MMR Mobile Management Resources *All attendees will receive a free report by the Aberdeen Group\, entitled\, " Fleet Management Solutions Reduce Operating Costs by 11%".
X-ALT-DESC;FMTTYPE=text/html:<span style="FONT-SIZE: 24pt\; COLOR: #000099\; FONT-FAMILY: Arial\; FONT-VARIANT: small-caps\; TEXT-DECORATION: none\; text-underline: none\; mso-bidi-font-style: italic"><o:p> <div style="MARGIN: 0in 0in 0pt"> <div style="MARGIN: 0in 0in 0pt" align="center"><strong><span style="FONT-SIZE: 16pt\; COLOR: #003366">Which Wireless Vehicle Management Solution</span></strong></div> <div style="MARGIN: 0in 0in 0pt" align="center"><strong><span style="FONT-SIZE: 16pt\; COLOR: #003366">&nbsp\;is Right for My Company?</span></strong></div> </div> <div style="MARGIN: 0in 0in 0pt"></div> <font style="FONT-SIZE: 12px"> <div style="MARGIN: 0in 0in 0pt"><font color="#000000">Forty-five thousand companies invested $1.2 billion on GPS-based solutions last year. According to a leading market research firm\, C.J. Driscoll &amp\; Associates\, GPS is no longer a nice to have\, &ldquo\;<em>it&rsquo\;s a must have</em>&rdquo\;. </font></div> <div style="MARGIN: 0in 0in 0pt"><font color="#000000">However\, e</font><span style="COLOR: black"><font color="#000000">valuating</font> all of today&rsquo\;s options can be very time consuming and somewhat overwhelming\, especially when added to your daily workload\, which of course\, continues to grow.</span></div> <div style="MARGIN: 0in 0in 0pt"><span style="COLOR: black">Mobile Management Resources (MMR) thoroughly understands the broad range of options available in the field of wireless vehicle management.&nbsp\;Steve Johnson\, VP Business Development\, will share some key questions that you should consider in selecting your optimal fleet management solution. Also\, a demonstration of a leading vehicle management solution will be presented. </span></div> <div style="MARGIN: 0in 0in 0pt"></div> <div style="MARGIN: 0in 0in 0pt"><strong><span style="FONT-SIZE: 11pt\; COLOR: black"></span></strong></div> <div style="MARGIN: 0in 0in 0pt"><strong><span style="FONT-SIZE: 11pt\; COLOR: black">Presented by: Steve Johnson\, Vice President Business Development</span></strong></div> <div style="MARGIN: 0in 0in 0pt"><strong><span style="FONT-SIZE: 11pt\; COLOR: black">MMR Mobile Management Resources</span></strong></div> </font><span style="FONT-SIZE: 12pt\; COLOR: black">*</span><strong><span style="FONT-SIZE: 11pt\; COLOR: black">All attendees will receive a free report by the Aberdeen Group\, entitled\, &ldquo\; Fleet Management Solutions Reduce Operating Costs by 11%&rdquo\;.</span></strong></o:p></span>
LOCATION:\, NJ
UID:e.9292.1430
SEQUENCE:3
DTSTAMP:20260424T140402Z
URL:https://members.blsj.com/events/details/seminar-which-wireless-vehicle-mgmt-solution-is-right-for-my-co-06-07-2007-1430
END:VEVENT

END:VCALENDAR
